BEGIN:VCALENDAR
VERSION:2.0
PRODID:-//wp-events-plugin.com//7.2.3.1//EN
TZID:America/Halifax
X-WR-TIMEZONE:America/Halifax
BEGIN:VEVENT
UID:745@devourfest.com
DTSTART;TZID=America/Halifax:20211022T200000
DTEND;TZID=America/Halifax:20211022T214000
DTSTAMP:20211002T142842Z
URL:https://devourfest.com/program/pig-w-wild-online/
SUMMARY:Pig w/Wild - ONLINE
DESCRIPTION:Pig\nA truffle hunter\, moodily portrayed by Nicolas Cage\, liv
 es alone in the Oregonian wilderness. After his beloved foraging pig is ki
 dnapped\, he must return to Portland to search for his pig\, as well as fa
 ce his past.\nUSA\, 2021\, 92 minutes\nDirector Michael Sarnoski\nDistribu
 tor Elevation Pictures\nAvailable online for Canadian viewers.\n\nWild\n\n
 Maite Sánchez leaves the city behind for a life in the mountains—a life
  where survival and self-sufficiency prevail—and becomes the rancher of 
 the last wild cow\, the Betizú\, a breed that is almost in extinction.\nS
 pain\, 2021\, 6 minutes\nDirector Raúl González\n\nSponsored by the Dair
 y Farmers of Canada and Atlantic News
ATTACH;FMTTYPE=image/jpeg:https://devourfest.com/wp-content/uploads/2021/0
 9/Pig-scaled.jpg
LOCATION:Online\, Online\,  \, Online\, Online\, Online\, Canada
GEO:43.808785;-79.334046
X-APPLE-STRUCTURED-LOCATION;VALUE=URI;X-ADDRESS=Online\,  \, Online\, Onlin
 e\, Online\, Canada;X-APPLE-RADIUS=100;X-TITLE=Online:geo:43.808785,-79.33
 4046
END:VEVENT
BEGIN:VTIMEZONE
TZID:America/Halifax
X-LIC-LOCATION:America/Halifax
BEGIN:DAYLIGHT
DTSTART:20210314T030000
TZOFFSETFROM:-0400
TZOFFSETTO:-0300
TZNAME:ADT
END:DAYLIGHT
END:VTIMEZONE
END:VCALENDAR