BEGIN:VCALENDAR
VERSION:2.0
PRODID:-//wp-events-plugin.com//7.2.3.1//EN
TZID:America/Halifax
X-WR-TIMEZONE:America/Halifax
BEGIN:VEVENT
UID:1036@devourfest.com
DTSTART;TZID=America/Halifax:20251025T083000
DTEND;TZID=America/Halifax:20251025T091500
DTSTAMP:20251019T143425Z
URL:https://devourfest.com/program/pre-bike-ride-yoga-session-with-a-view/
SUMMARY:Morning Flow: Yoga by the Sea
DESCRIPTION:Greet the day\, embrace wellness\, and join our vibrant communi
 ty at an energizing early morning yoga session by the ocean! Perfect for a
 ll ages and fitness levels\, this rejuvenating experience will be held und
 er our cozy tents at Wolfville’s Waterfront Park. Don’t miss out on th
 is chance to stretch\, breathe\, and strengthen your body before Le Tour d
 e l’Acadie Bike Ride. Weather location: inside Devour! Studios. \n\nTic
 ket Price: Free admission\, open to all levels\, must bring own mat\nSpons
 ored by Allbright Life\nInstructor Sarah Letcher\n\nSarah is a graduate of
  Dalhousie University\, earning a Bachelor of Science in Kinesiology. With
  26 years as a Registered Massage Therapist\, she co-owns and manages Tota
 l Kneads Health and Wellness. An avid yoga instructor for 18 years\, she f
 ounded Angel Fish Yoga in 2021\, offering an online platform for her stude
 nts. In addition to her yoga practice\, Sarah has been a passionate musici
 an with the local band Big Fish for nearly 30 years. She holds multiple ce
 rtifications\, including Personal Trainer and Prenatal Yoga\, and teaches 
 with mindfulness and creativity\, ensuring a unique experience in each cla
 ss. @totalkneads\n\n\n\n
ATTACH;FMTTYPE=image/jpeg:https://devourfest.com/wp-content/uploads/2025/0
 8/Pre-Bike-Ride-Yoga-with-a-View-2.jpeg
CATEGORIES:EVENT
LOCATION:Wolfville Waterfront Park\, Wolfville Waterfront Park\, Wolfville\
 , NS\, Canada
GEO:45.092816;-64.358775
X-APPLE-STRUCTURED-LOCATION;VALUE=URI;X-ADDRESS=Wolfville Waterfront Park\,
  Wolfville\, NS\, Canada;X-APPLE-RADIUS=100;X-TITLE=Wolfville Waterfront P
 ark:geo:45.092816,-64.358775
END:VEVENT
BEGIN:VTIMEZONE
TZID:America/Halifax
X-LIC-LOCATION:America/Halifax
BEGIN:DAYLIGHT
DTSTART:20250309T030000
TZOFFSETFROM:-0400
TZOFFSETTO:-0300
TZNAME:ADT
END:DAYLIGHT
END:VTIMEZONE
END:VCALENDAR