BEGIN:VCALENDAR
VERSION:2.0
PRODID:-//wp-events-plugin.com//7.2.3.1//EN
TZID:America/Halifax
X-WR-TIMEZONE:America/Halifax
BEGIN:VEVENT
UID:109@devourfest.com
DTSTART;TZID=America/Halifax:20141115T140000
DTEND;TZID=America/Halifax:20141115T153000
DTSTAMP:20140922T114112Z
URL:https://devourfest.com/program/rabbit-nose-to-tail-with-chef-mark-gray
 -brooklyn-warehouse/
SUMMARY:Rabbit Nose-to-Tail with Chef Mark Gray (Brooklyn Warehouse)
DESCRIPTION:Watch out\, Thumper! Revered Halifax chef\, Mark Gray of Brookl
 yn Warehouse\, takes us on a complete rabbit nose-to-tail adventure. No pa
 rt of this dynamic little beast will be wasted in this workshop\, from bra
 ised liver pate\, to stuffed hind legs\, to demi glace and stocks from the
  bones\, to confit of the forelegs.\n\nMark Gray\n\n\n\nBorn in Halifax\, 
 Nova Scotia\, Canada\, I have been working in the culinary industry since 
 age 16.\n\nI began my climb at the bottom\, washing dishes at Il Mercato T
 rattoria in Bedford\, NS\, under Chef’s Maurizio Bertossi &amp\; Martin 
 Ruiz Salvador. After graduating from high school at the age of 18\, I move
 d west to Canmore\, Alberta.  There I became Sous Chef at The Drake Inn\,
  while also working under back-to-back Gold Medal Plates winner Chef Micha
 el Lyon at The Wood Steakhouse &amp\; Grill.\n\nMoving back to Halifax in 
 2009 at age 20\, I took the Executive Chef position at The Hilton Garden I
 nn\, Halifax Airport. After 9 months\, I decided to take a step back to co
 ntinue to learn the craft. It was then that I began working under Chef Gra
 eme Rupple at The Brooklyn Warehouse.\n\nIn May 2011\, at age 23\, I earne
 d my Canadian Red Seal Certification and also completed the Culinary Arts 
 program at the Nova Scotia Community College. In June 2011\, I took comman
 d of The Brooklyn Warehouse. Since then\, we have taken the title of “Be
 st Restaurant - Halifax” in The Coast’s Best of Food Awards 2012\, 201
 3 &amp\; 2014.
ATTACH;FMTTYPE=image/jpeg:https://devourfest.com/wp-content/uploads/2014/0
 9/Rabbit-Workshop-Photo.jpg
LOCATION:Huggins Science Hall\, Acadia University\, 12 University Ave\, Wol
 fville\, NS\, B4P 2R6\, Canada
GEO:45.088516;-64.367966
X-APPLE-STRUCTURED-LOCATION;VALUE=URI;X-ADDRESS=12 University Ave\, Wolfvil
 le\, NS\, B4P 2R6\, Canada;X-APPLE-RADIUS=100;X-TITLE=Huggins Science Hall
 \, Acadia University:geo:45.088516,-64.367966
END:VEVENT
BEGIN:VTIMEZONE
TZID:America/Halifax
X-LIC-LOCATION:America/Halifax
BEGIN:STANDARD
DTSTART:20141102T010000
TZOFFSETFROM:-0300
TZOFFSETTO:-0400
TZNAME:AST
END:STANDARD
END:VTIMEZONE
END:VCALENDAR