BEGIN:VCALENDAR
VERSION:2.0
PRODID:-//wp-events-plugin.com//7.2.3.1//EN
TZID:America/Halifax
X-WR-TIMEZONE:America/Halifax
BEGIN:VEVENT
UID:1022@devourfest.com
DTSTART;TZID=America/Halifax:20251025T140000
DTEND;TZID=America/Halifax:20251025T160000
DTSTAMP:20250904T111759Z
URL:https://devourfest.com/program/resonance-acadie-w-trecarre-a-la-source
 -du-son-de-la-baie-sainte-maire/
SUMMARY:Resonance Acadie w/Trécarré: à la source du son de la Baie Saint
 e-Maire
DESCRIPTION:Resonance Acadie (Acadian Resonance)\nResonance Acadie follows 
 the journey of 10 young artists from the Acadian diaspora. They are invite
 d to create a work of art in just eight days during the World Acadian Cong
 ress in Nova Scotia.\nCanada\, 2025\, 52 minutes\nDirector Phil Comeau\n\n
 Trécarré: à la source du son de la Baie Sainte-Maire (Trécarré: Explo
 ring the Saint Mary's Bay Sound)\n\nTrécarré showcases Baie Sainte-Marie
 ’s musical culture\, where talented locals reinvent traditions and invit
 e everyone to listen\, dance\, and live the rhythms.\nCanada\, 2024\, 30 m
 inutes\nDirector Natalie Robichaud\nSponsored by Telefilm Canada and theOf
 fice of Acadian Affairs &amp\; Francophonie
ATTACH;FMTTYPE=image/jpeg:https://devourfest.com/wp-content/uploads/2025/0
 8/Resonance-Acadie.jpeg
CATEGORIES:FILM
LOCATION:Al Whittle Theatre\, 450 Main St\, Wolfville\, NS\, B4P 1E2\, Cana
 da
GEO:45.0915;-64.362765
X-APPLE-STRUCTURED-LOCATION;VALUE=URI;X-ADDRESS=450 Main St\, Wolfville\, N
 S\, B4P 1E2\, Canada;X-APPLE-RADIUS=100;X-TITLE=Al Whittle Theatre:geo:45.
 0915,-64.362765
END:VEVENT
BEGIN:VTIMEZONE
TZID:America/Halifax
X-LIC-LOCATION:America/Halifax
BEGIN:DAYLIGHT
DTSTART:20250309T030000
TZOFFSETFROM:-0400
TZOFFSETTO:-0300
TZNAME:ADT
END:DAYLIGHT
END:VTIMEZONE
END:VCALENDAR