BEGIN:VCALENDAR
VERSION:2.0
PRODID:-//wp-events-plugin.com//7.2.3.1//EN
TZID:America/Halifax
X-WR-TIMEZONE:America/Halifax
BEGIN:VEVENT
UID:780@devourfest.com
DTSTART;TZID=America/Halifax:20211021T200000
DTEND;TZID=America/Halifax:20211021T221000
DTSTAMP:20211018T013449Z
URL:https://devourfest.com/program/roadrunner-a-film-about-anthony-bourdai
 n-w-the-church-forests-of-ethiopia-in-person/
SUMMARY:Roadrunner: A Film About Anthony Bourdain w/The Church Forests of E
 thiopia - IN PERSON
DESCRIPTION:Roadrunner: A Film About Anthony Bourdain\nThe cultural-culinar
 y-intellectual force that was Anthony Bourdain exploded onto the scene in 
 2000 with the publication of his searing restaurant memoir Kitchen Confide
 ntial. From there was an unstoppable rise to Parts Unknown\, No Reservatio
 ns\, and a place in the American cultural canon. Bourdain’s outsize pers
 onality\, insatiable curiosity\, and passion for food\, travel\, and cultu
 re tapped into a deeper humanity that resonated with viewers who felt that
  they knew him. \nUSA\, 2021\, 118 minutes\nDirector Morgan Neville\nDist
 ributor Audio Ciné Films\nAvailable for Nova Scotia viewers in person onl
 y.\n\nThe Church Forests of Ethiopia\n\nThis film tells the story of Ethio
 pia’s Church Forests—pockets of lush biodiversity that are protected b
 y hundreds of churches scattered like emerald pearls across a brown sea of
  farm fields. \nEthiopia\, 2020\, 9 minutes\nDirector Jeremy Seifert\n\nS
 ponsored by Atlantic News\n\nIn keeping with Nova Scotia provincial health
  regulations and a desire to keep all our guests safe and healthy\, Devour
 ! will require proof of full Covid-19 vaccine immunization along with a va
 lid photo ID upon entry to all events with no exceptions. For all Devour! 
 Covid Protocols\, please visit our website.
ATTACH;FMTTYPE=image/jpeg:https://devourfest.com/wp-content/uploads/2021/0
 9/AB.jpg
LOCATION:Al Whittle Theatre\, 450 Main St\, Wolfville\, NS\, B4P 1E2\, Cana
 da
GEO:45.0915;-64.362765
X-APPLE-STRUCTURED-LOCATION;VALUE=URI;X-ADDRESS=450 Main St\, Wolfville\, N
 S\, B4P 1E2\, Canada;X-APPLE-RADIUS=100;X-TITLE=Al Whittle Theatre:geo:45.
 0915,-64.362765
END:VEVENT
BEGIN:VTIMEZONE
TZID:America/Halifax
X-LIC-LOCATION:America/Halifax
BEGIN:DAYLIGHT
DTSTART:20210314T030000
TZOFFSETFROM:-0400
TZOFFSETTO:-0300
TZNAME:ADT
END:DAYLIGHT
END:VTIMEZONE
END:VCALENDAR