BEGIN:VCALENDAR
VERSION:2.0
PRODID:-//wp-events-plugin.com//7.2.3.1//EN
TZID:America/Halifax
X-WR-TIMEZONE:America/Halifax
BEGIN:VEVENT
UID:348@devourfest.com
DTSTART;TZID=America/Halifax:20171026T133000
DTEND;TZID=America/Halifax:20171026T150000
DTSTAMP:20170911T122122Z
URL:https://devourfest.com/program/savour-spain-workshop/
SUMMARY:Savour Spain Workshop
DESCRIPTION:Spain is the most widely planted country under vine\, a place w
 here deep-rooted winemaking traditions and evolving modern practices are c
 reating an irresistible wine culture. From Priorat to Ribera del Duero\, R
 ias Biaxas to Penedès\, taste and learn about hidden gems\, old favourite
 s and everything in between.\n\n\n\nBio- Jenny Gammon\n\nJenny Gammon is B
 ishop’s Cellar’s marketing and events manager and CAPS-certified somme
 lier. Jenny’s love of food\, wine and people has taken her around the wo
 rld\, including Spain\, where she had no problem finding perfect food and 
 wine pairings. Day to day\, Jenny manages the Bishop’s Cellar brand\, co
 mmunity and marketing endeavours. She aims to find\, craft and share incre
 dible behind-the-scenes stories for every bottle on their shelves. 
ATTACH;FMTTYPE=image/jpeg:https://devourfest.com/wp-content/uploads/2017/0
 8/Wine-Workshop-TBD.jpg
LOCATION:Wilsons Home Heating Pavilion\, Troy Restaurant\, 12 Elm Ave.\, Wo
 lfville\, NS\, B4P 2S2\, Kings County\, Canada
GEO:45.092072;-64.363983
X-APPLE-STRUCTURED-LOCATION;VALUE=URI;X-ADDRESS=12 Elm Ave.\, Wolfville\, N
 S\, B4P 2S2\, Kings County\, Canada;X-APPLE-RADIUS=100;X-TITLE=Wilsons Hom
 e Heating Pavilion\, Troy Restaurant:geo:45.092072,-64.363983
END:VEVENT
BEGIN:VTIMEZONE
TZID:America/Halifax
X-LIC-LOCATION:America/Halifax
BEGIN:DAYLIGHT
DTSTART:20170312T030000
TZOFFSETFROM:-0400
TZOFFSETTO:-0300
TZNAME:ADT
END:DAYLIGHT
END:VTIMEZONE
END:VCALENDAR