BEGIN:VCALENDAR
VERSION:2.0
PRODID:-//wp-events-plugin.com//7.2.3.1//EN
TZID:America/Halifax
X-WR-TIMEZONE:America/Halifax
BEGIN:VEVENT
UID:145@devourfest.com
DTSTART;TZID=America/Halifax:20151106T100000
DTEND;TZID=America/Halifax:20151106T113000
DTSTAMP:20151002T193025Z
URL:https://devourfest.com/program/school-program-in-defense-of-food-wat-n
 eedle-point/
SUMMARY:School Program: In Defense of Food w/At Needle Point
DESCRIPTION:In Defense of Food\nMichael Pollan wants you to think about foo
 d before you eat it. In Defense of Food is based on his critically-lauded 
 and best-selling book which explores the politics  –  and the machinat
 ions thereof – that deliver the food that ends up on your plate.\nUSA/Fr
 ance/Tanzania\, 2015\, 117 minutes\nDirector Michael Schwarz\nDistributor 
 Kikim Media\n\n\n\nAt Needle Point\nThis poetry slam addressing the many i
 ssues of sugars and its affect on our bodies took the grand prize at this 
 year’s Real Food Media Project.\nUSA\, 2015\, 4 minutes\nDirector Jamie 
 DeWolf\n\nThese screenings are presented with Nourish Nova Scotia and incl
 ude an interactive post-screening session for students and healthy snacks.
  For school bookings\, please email film@devourfest.com.
ATTACH;FMTTYPE=image/jpeg:https://devourfest.com/wp-content/uploads/2015/0
 9/In-Defense-of-Food.jpeg
LOCATION:Al Whittle Theatre\, 450 Main St\, Wolfville\, NS\, B4P 1E2\, Cana
 da
GEO:45.0915;-64.362765
X-APPLE-STRUCTURED-LOCATION;VALUE=URI;X-ADDRESS=450 Main St\, Wolfville\, N
 S\, B4P 1E2\, Canada;X-APPLE-RADIUS=100;X-TITLE=Al Whittle Theatre:geo:45.
 0915,-64.362765
END:VEVENT
BEGIN:VTIMEZONE
TZID:America/Halifax
X-LIC-LOCATION:America/Halifax
BEGIN:STANDARD
DTSTART:20151101T010000
TZOFFSETFROM:-0300
TZOFFSETTO:-0400
TZNAME:AST
END:STANDARD
END:VTIMEZONE
END:VCALENDAR