BEGIN:VCALENDAR
VERSION:2.0
PRODID:-//wp-events-plugin.com//7.2.3.1//EN
TZID:America/Halifax
X-WR-TIMEZONE:America/Halifax
BEGIN:VEVENT
UID:309@devourfest.com
DTSTART;TZID=America/Halifax:20161106T150000
DTEND;TZID=America/Halifax:20161106T163000
DTSTAMP:20161104T132015Z
URL:https://devourfest.com/program/shorts-program-its-a-chefs-life-wjonath
 an-golds-los-angeles-the-baco-by-baco-mercat-heritage-contemporary-califor
 nia-cuisine-in-venice-with-chef-nyesha-arrington-of-leona-rise-jonathan-g/
SUMMARY:Shorts Program: It's a Chef's Life w/Jonathan Gold's Los Angeles: T
 he Baco by Bäco Mercat\, Heritage - Contemporary California Cuisine in Ve
 nice with Chef Nyesha Arrington of Leona\, Rise\, Jonathan Gold's Los Ange
 les: The Ugly Bunch by Providence\, A Word to the Wise\, Chef’s Cut: Dan
 iel Burns on Mathematical Precision\, Jonathan Gold's Los Angeles: The Jaz
 z Burger by Jitlada\, One Star\, Chef’s Cut: Beyond the Forest with Rasm
 us Kofoed\, Jonathan Gold's Los Angeles: Shrimp & Grits by Wiillie Jane\, 
 Wolvesmouth
DESCRIPTION:Jonathan Gold's Los Angeles: The Baco by Bäco Mercat\n\nCity o
 f Angels\, or City of Secret Dishes more like\, you just have to know wher
 e to go. \n\nUSA\, 2015\, 4 minutes\n\nDirector John Henion\n\n\n\nHeritag
 e- Contemporary California Cuisine in Venice with Chef Nyesha Arrington of
  Leona\n\nIn the first year they were open\, Leona Chef Nyesha Arrington\,
  received EATER LA’s title of ‘Chef of the Year’–hear directly fro
 m the creative vision behind this popular California neighbourhood eatery.
  \n\nUSA\, 2016\, 10 minutes\n\nDirector Gab Taraboulsy\n\n\n\nRise\n\nDir
 ector James Reid (last year’s Make Love: McCamus Maple Syrup) is working
  his way through the virtual larder and returns to Devour! with his take o
 n dough this time. Rise is  the simple story of real bread. The way it's 
 supposed to be made. Naturally leavened. Sourdough.\n\nCanada\, 2016\, 8 m
 inutes\n\nDirector James Reid\n\nJonathan Gold's Los Angeles: The Ugly Bun
 ch by Providence\n\nVenerated LA Times food critic Jonathan Gold takes us 
 on a tour of his city’s favourite dishes\, even the most ugly beautiful.
  \n\nUSA\, 2015\, 4 minutes\n\nDirector John Henion\n\n\n\nA Word to the W
 ise\n\nFogo Island Inn’s Chef Murray McDonald waxes poetic on the work a
 nd beauty of cooking on the remote island.\n\nCanada\, 2016\, 2 minutes\n\
 nDirector Rosemary House\n\n&nbsp\;\n\n\n\nThe Art of Plating: Chef’s Cu
 t - Daniel Burns on Mathematical Precision\n\nDartmouth’s first Michelin
 -starred chef in Brooklyn\, our homeboy Daniel Burns\, reveals the science
  behind some of his dishes.\n\nUSA\, 2015\, 3 minutes\n\nDirector Aiala He
 rnando\n\nJonathan Gold's Los Angeles: The Jazz Burger by Jitlada \n\nSome
 times it’s embarrassing to take your lunch to school\, sometimes it beco
 mes the basis for a chef’s all-star dish.\n\nUSA\, 2015\, 5 minutes\n\nD
 irector John Henion\n\n\n\nOne Star\n\nChef Maria Groß is one of the only
  women in Germany who has achieved a Michelin star.\n\nGermany\, 2016\, 9 
 minutes\n\nDirector Victoria McCurrie\n\n&nbsp\;\n\n\n\nThe Art of Plating
 : Chef’s Cut - Beyond the Forest with Rasmus Kofoed\n\nFrom growing up p
 rimarily as a young vegetarian boy in the forest to spearheading one of th
 e world’s must see destinations\, Rasmus Kofoed has created a restaurant
  that is a clear reflection of himself and the environment he grew up in.\
 n\nUSA\, 2015\, 5 minutes\n\nDirector Aiala Hernando\n\nJonathan Gold's Lo
 s Angeles: Shrimp &amp\; Grits by Willie Jane\n\nA classic\, low-country d
 ish elevated beyond compare. \n\nUSA\, 2015\, 4 minutes\n\nDirector John H
 enion\n\n\n\nWolvesmouth\n\nChef Craig Thornton created an underground sup
 per club that quickly became the most coveted dinner reservation in Los An
 geles. \n\nUSA\, 2016\, 16 minutes\n\nDirector Lucy Walker
ATTACH;FMTTYPE=image/jpeg:https://devourfest.com/wp-content/uploads/2016/0
 9/Heritage-Contemporary-California-Cuisine-in-Venice-with-Chef-Nyesha-Arri
 ngton-of-Leona-scaled.jpg
LOCATION:Al Whittle Theatre\, 450 Main St\, Wolfville\, NS\, B4P 1E2\, Cana
 da
GEO:45.0915;-64.362765
X-APPLE-STRUCTURED-LOCATION;VALUE=URI;X-ADDRESS=450 Main St\, Wolfville\, N
 S\, B4P 1E2\, Canada;X-APPLE-RADIUS=100;X-TITLE=Al Whittle Theatre:geo:45.
 0915,-64.362765
END:VEVENT
BEGIN:VTIMEZONE
TZID:America/Halifax
X-LIC-LOCATION:America/Halifax
BEGIN:STANDARD
DTSTART:20161106T010000
TZOFFSETFROM:-0300
TZOFFSETTO:-0400
TZNAME:AST
END:STANDARD
END:VTIMEZONE
END:VCALENDAR