BEGIN:VCALENDAR
VERSION:2.0
PRODID:-//wp-events-plugin.com//7.2.3.1//EN
TZID:America/Halifax
X-WR-TIMEZONE:America/Halifax
BEGIN:VEVENT
UID:725@devourfest.com
DTSTART;TZID=America/Halifax:20211021T150000
DTEND;TZID=America/Halifax:20211021T170000
DTSTAMP:20211018T013313Z
URL:https://devourfest.com/program/signature-cocktails-workshop-w-ray-dani
 els-in-person/
SUMMARY:Signature Cocktails Workshop w/Ray Daniel - IN PERSON
DESCRIPTION:Ray Daniel is back with an interactive cocktail-building semina
 r featuring the history of Maker’s Mark Bourbon and The Old Fashioned Co
 cktail\, followed by the history of Basil Hayden Bourbon and The Highball 
 Cocktail. In between each presentation\, attendees will have the opportuni
 ty to build their very own cocktail (and drink it!) using a variety of bit
 ters\, syrups\, jams\, and herbs from ingredients Ray has sourced locally 
 and native to Canada.\n\nTicket Price: $30.00 in-person (includes beverage
  samples)\nSponsored by: Basil Hayden Bourbon &amp\; Maker’s Mark\n\nMus
 t be 19+ to attend.\n\nRay Daniel – Beam Suntory American Whiskey Nation
 al Brand Ambassador\nRay Daniel brings with him nearly two decades of expe
 rience behind the bar\, from Europe to North America\, where he is current
 ly the Beam Suntory American Whiskey National Brand Ambassador to Canada. 
 Hailing from Ireland\, he has a huge and broad range of knowledge of whisk
 ey\, and the bourbon category in particular. With a long background in com
 petitive bartending\, Ray’s escapades have landed him in competitions an
 d as a guest speaker and lecturer throughout Canada\, Mexico\, and the USA
 \, and appearing in publications such as Whisky Magazine and The New York 
 Times. Jam packed with passion\, humour\, and a massive respect for the hi
 story of whiskey\, Ray’s presentations have become a much sought-after a
 ffair. @raydanielwhiskey @mersoleilagency\n\nIn keeping with Nova Scotia p
 rovincial health regulations and a desire to keep all our guests safe and 
 healthy\, Devour! will require proof of full Covid-19 vaccine immunization
  along with a valid photo ID upon entry to all events with no exceptions. 
 For all Devour! Covid Protocols\, please visit our website.
ATTACH;FMTTYPE=image/jpeg:https://devourfest.com/wp-content/uploads/2021/0
 9/Signature-Cocktails-Workshop.jpg
LOCATION:Devour! Studios\, 360 Main Street\, Wolfville\, NS\, B4P1C4\, Cana
 da
GEO:45.091942;-64.359045
X-APPLE-STRUCTURED-LOCATION;VALUE=URI;X-ADDRESS=360 Main Street\, Wolfville
 \, NS\, B4P1C4\, Canada;X-APPLE-RADIUS=100;X-TITLE=Devour! Studios:geo:45.
 091942,-64.359045
END:VEVENT
BEGIN:VTIMEZONE
TZID:America/Halifax
X-LIC-LOCATION:America/Halifax
BEGIN:DAYLIGHT
DTSTART:20210314T030000
TZOFFSETFROM:-0400
TZOFFSETTO:-0300
TZNAME:ADT
END:DAYLIGHT
END:VTIMEZONE
END:VCALENDAR