BEGIN:VCALENDAR
VERSION:2.0
PRODID:-//wp-events-plugin.com//7.2.3.1//EN
TZID:America/Halifax
X-WR-TIMEZONE:America/Halifax
BEGIN:VEVENT
UID:821@devourfest.com
DTSTART;TZID=America/Halifax:20221027T140000
DTEND;TZID=America/Halifax:20221027T160000
DTSTAMP:20221027T144759Z
URL:https://devourfest.com/program/signature-cocktails-workshop-w-ray-dani
 els-online-2/
SUMMARY:Signature Cocktails Workshop w/Ray Daniels - ONLINE
DESCRIPTION:American Whiskey Ambassador\, Ray Daniel\, guides you through t
 he history of sustainability of the James B. Beam Distilling Co.\, and how
  these practices can be applied to your at-home cocktail experience. Inclu
 ding cocktails made with Basil Hayden Kentucky Straight Bourbon Whiskey\, 
 Knob Creek 9-Year Old and the classic Jim Beam Black.\n\nTicket Price: $10
 .00 online\nSponsored by Beam Suntory\, Russell Hendrix\, Windsor Home Fur
 niture &amp\; Bosch Canada\n\nRay Daniels – Beam Suntory American Whiske
 y National Brand Ambassador\n\nRay Daniel brings with him nearly two decad
 es of experience behind the bar\, from Europe to North America\, where he 
 is currently the Beam Suntory American Whiskey National Brand Ambassador t
 o Canada. Hailing from Ireland\, he has a huge and broad range of knowledg
 e of whiskey\, and the bourbon category in particular. With a long backgro
 und in competitive bartending\, Ray’s escapades have landed him in compe
 titions and as a guest speaker and lecturer throughout Canada\, Mexico\, a
 nd the USA\, and appearing in publications such as Whisky Magazine and The
  New York Times. Jam-packed with passion\, humour\, and a massive respect 
 for the history of whiskey\, Ray’s presentations have become a much soug
 ht-after affair. @raydanielwhiskey @mersoleilagency
ATTACH;FMTTYPE=image/jpeg:https://devourfest.com/wp-content/uploads/2022/0
 9/Ray-Daniel1.jpg
CATEGORIES:WORKSHOP
LOCATION:Online\, Online\,  \, Online\, Online\, Online\, Canada
GEO:43.808785;-79.334046
X-APPLE-STRUCTURED-LOCATION;VALUE=URI;X-ADDRESS=Online\,  \, Online\, Onlin
 e\, Online\, Canada;X-APPLE-RADIUS=100;X-TITLE=Online:geo:43.808785,-79.33
 4046
END:VEVENT
BEGIN:VTIMEZONE
TZID:America/Halifax
X-LIC-LOCATION:America/Halifax
BEGIN:DAYLIGHT
DTSTART:20220313T030000
TZOFFSETFROM:-0400
TZOFFSETTO:-0300
TZNAME:ADT
END:DAYLIGHT
END:VTIMEZONE
END:VCALENDAR