BEGIN:VCALENDAR
VERSION:2.0
PRODID:-//wp-events-plugin.com//7.2.3.1//EN
TZID:America/Halifax
X-WR-TIMEZONE:America/Halifax
BEGIN:VEVENT
UID:726@devourfest.com
DTSTART;TZID=America/Halifax:20211021T150000
DTEND;TZID=America/Halifax:20211021T170000
DTSTAMP:20211013T131123Z
URL:https://devourfest.com/program/signature-cocktails-workshop-w-ray-dani
 els-online/
SUMMARY:Signature Cocktails Workshop w/Ray Daniel - ONLINE
DESCRIPTION:Ray Daniel is back with an interactive cocktail-building semina
 r featuring the history of Maker’s Mark Bourbon and The Old Fashioned Co
 cktail\, followed by the history of Basil Hayden Bourbon and The Highball 
 Cocktail. In between each presentation\, attendees will have the opportuni
 ty to build their very own cocktail (and drink it!) using a variety of bit
 ters\, syrups\, jams\, and herbs from ingredients Ray has sourced locally 
 and native to Canada.\n\nTicket Price: $30.00 online (includes drink recip
 es)\nSponsored by: Basil Hayden Bourbon &amp\; Maker’s Mark\n\nRay Danie
 l – Beam Suntory American Whiskey National Brand Ambassador\nRay Daniel 
 brings with him nearly two decades of experience behind the bar\, from Eur
 ope to North America\, where he is currently the Beam Suntory American Whi
 skey National Brand Ambassador to Canada. Hailing from Ireland\, he has a 
 huge and broad range of knowledge of whiskey\, and the bourbon category in
  particular. With a long background in competitive bartending\, Ray’s es
 capades have landed him in competitions and as a guest speaker and lecture
 r throughout Canada\, Mexico\, and the USA\, and appearing in publications
  such as Whisky Magazine and The New York Times. Jam packed with passion\,
  humour\, and a massive respect for the history of whiskey\, Ray’s prese
 ntations have become a much sought-after affair. @raydanielwhiskey @mersol
 eilagency\n\n&nbsp\;
ATTACH;FMTTYPE=image/jpeg:https://devourfest.com/wp-content/uploads/2021/0
 9/Signature-Cocktails-Workshop.jpg
LOCATION:Online\, Online\,  \, Online\, Online\, Online\, Canada
GEO:43.808785;-79.334046
X-APPLE-STRUCTURED-LOCATION;VALUE=URI;X-ADDRESS=Online\,  \, Online\, Onlin
 e\, Online\, Canada;X-APPLE-RADIUS=100;X-TITLE=Online:geo:43.808785,-79.33
 4046
END:VEVENT
BEGIN:VTIMEZONE
TZID:America/Halifax
X-LIC-LOCATION:America/Halifax
BEGIN:DAYLIGHT
DTSTART:20210314T030000
TZOFFSETFROM:-0400
TZOFFSETTO:-0300
TZNAME:ADT
END:DAYLIGHT
END:VTIMEZONE
END:VCALENDAR