BEGIN:VCALENDAR
VERSION:2.0
PRODID:-//wp-events-plugin.com//7.2.3.1//EN
TZID:America/Halifax
X-WR-TIMEZONE:America/Halifax
BEGIN:VEVENT
UID:737@devourfest.com
DTSTART;TZID=America/Halifax:20211022T140000
DTEND;TZID=America/Halifax:20211022T150000
DTSTAMP:20211018T013636Z
URL:https://devourfest.com/program/sockeye-salmon-red-fish-w-paradis-in-pe
 rson/
SUMMARY:Sockeye Salmon. Red Fish. w/Paradis - IN PERSON
DESCRIPTION:Sockeye Salmon. Red Fish.\nThe wild salmon of the Southern Kamc
 hatka are a natural wonder\, an unfathomable abundance of food for birds a
 nd animals\, and a source of income for humans in this region. We’re jus
 t one mistake away from depleting a seemingly inexhaustible resource that 
 feeds millions of people on the planet.\nRussian Federation\, 2020\, 52 mi
 nutes\nDirector Dmitry Shpilenok\nDistributor Amex Media\n\nParadis\n\nNat
 han Paradis is the Pauquachin official fisherman. Every day he catches pra
 wns and fishes in the Saanich Inlet to provide seafood to the elders and o
 ther people in need.\nCanada\, 2020\, 6 minutes\, Nation: Pauquachin\nDire
 ctor Nathan Paradis\n\nThis film will be followed by a panel:\n\nSylvain C
 harlebois (Moderator)\nKirk Havercroft (Sustainable Blue)\nKris Hunter (At
 lantic Salmon Federation - NS Branch)\n\nSponsored by Sustainable Blue\n\n
 In keeping with Nova Scotia provincial health regulations and a desire to 
 keep all our guests safe and healthy\, Devour! will require proof of full 
 Covid-19 vaccine immunization along with a valid photo ID upon entry to al
 l events with no exceptions. For all Devour! Covid Protocols\, please visi
 t our website.
ATTACH;FMTTYPE=image/jpeg:https://devourfest.com/wp-content/uploads/2021/0
 9/Sockeye-Salmon-Red-Fish.jpg
LOCATION:Al Whittle Theatre\, 450 Main St\, Wolfville\, NS\, B4P 1E2\, Cana
 da
GEO:45.0915;-64.362765
X-APPLE-STRUCTURED-LOCATION;VALUE=URI;X-ADDRESS=450 Main St\, Wolfville\, N
 S\, B4P 1E2\, Canada;X-APPLE-RADIUS=100;X-TITLE=Al Whittle Theatre:geo:45.
 0915,-64.362765
END:VEVENT
BEGIN:VTIMEZONE
TZID:America/Halifax
X-LIC-LOCATION:America/Halifax
BEGIN:DAYLIGHT
DTSTART:20210314T030000
TZOFFSETFROM:-0400
TZOFFSETTO:-0300
TZNAME:ADT
END:DAYLIGHT
END:VTIMEZONE
END:VCALENDAR