BEGIN:VCALENDAR
VERSION:2.0
PRODID:-//wp-events-plugin.com//7.2.3.1//EN
TZID:America/Halifax
X-WR-TIMEZONE:America/Halifax
BEGIN:VEVENT
UID:738@devourfest.com
DTSTART;TZID=America/Halifax:20211022T140000
DTEND;TZID=America/Halifax:20211022T150000
DTSTAMP:20211006T165552Z
URL:https://devourfest.com/program/sockeye-salmon-red-fish-w-paradis-onlin
 e/
SUMMARY:Sockeye Salmon. Red Fish w/Paradis - ONLINE
DESCRIPTION:Sockeye Salmon. Red Fish\nThe wild salmon of the Southern Kamch
 atka are a natural wonder\, an unfathomable abundance of food for birds an
 d animals\, and a source of income for humans in this region. We’re just
  one mistake away from depleting a seemingly inexhaustible resource that f
 eeds millions of people on the planet.\nRussian Federation\, 2020\, 52 min
 utes\nDirector Dmitry Shpilenok\nDistributor Amex Media\n\nParadis\n\nNath
 an Paradis is the Pauquachin official fisherman. Every day he catches praw
 ns and fishes in the Saanich Inlet to provide seafood to the elders and ot
 her people in need.\nCanada\, 2020\, 6 minutes\, Nation: Pauquachin\nDirec
 tor Nathan Paradis\n\nSponsored by Sustainable Blue
ATTACH;FMTTYPE=image/jpeg:https://devourfest.com/wp-content/uploads/2021/0
 9/Sockeye-Salmon-Red-Fish.jpg
LOCATION:Online\, Online\,  \, Online\, Online\, Online\, Canada
GEO:43.808785;-79.334046
X-APPLE-STRUCTURED-LOCATION;VALUE=URI;X-ADDRESS=Online\,  \, Online\, Onlin
 e\, Online\, Canada;X-APPLE-RADIUS=100;X-TITLE=Online:geo:43.808785,-79.33
 4046
END:VEVENT
BEGIN:VTIMEZONE
TZID:America/Halifax
X-LIC-LOCATION:America/Halifax
BEGIN:DAYLIGHT
DTSTART:20210314T030000
TZOFFSETFROM:-0400
TZOFFSETTO:-0300
TZNAME:ADT
END:DAYLIGHT
END:VTIMEZONE
END:VCALENDAR