BEGIN:VCALENDAR
VERSION:2.0
PRODID:-//wp-events-plugin.com//7.2.3.1//EN
TZID:America/Halifax
X-WR-TIMEZONE:America/Halifax
BEGIN:VEVENT
UID:274@devourfest.com
DTSTART;TZID=America/Halifax:20161104T170000
DTEND;TZID=America/Halifax:20161104T183000
DTSTAMP:20161004T125947Z
URL:https://devourfest.com/program/sour-grapes-wlilac-coconut-cream-tarts/
SUMMARY:Sour Grapes w/Lilac Coconut Cream Tarts
DESCRIPTION:Sour Grapes \n\nThe world of wine can be as exciting as a hunt\
 , and one can easily be fleeced. Charismatic Rudy Kurniawan meets all the 
 right people\, makes all the right moves\, until a Burgundian wine produce
 r decides to stop the party\, and everyone realises they’ve all been dri
 nking the wrong kool-aid.\n\nUSA/UK/France\, 2016\, 86 minutes\n\nDirector
 s Jerry Rothwell\, Reuben Atlas\n\nDistributor Kinosmith\n\n\n\nLilac Coco
 nut Cream Tarts\n\nThe best spring dessert idea we’ve seen in some time\
 , and we’ll never look at lilac bushes the same way. \n\nCanada\, 2016\,
  3 minutes\n\nDirector Aube Giroux\n\n\n\nThis film will inspire a dinner 
 following the screening at 8PM at the Wolfville Farmers' Market–Celebrit
 y Chef Dinner with John Sundstrom\, Dale MacKay\, Ray Bear\, Andru Branch 
 &amp\; Mark Gray.
ATTACH;FMTTYPE=image/jpeg:https://devourfest.com/wp-content/uploads/2016/0
 9/Sour-Grapes.jpg
LOCATION:Al Whittle Theatre\, 450 Main St\, Wolfville\, NS\, B4P 1E2\, Cana
 da
GEO:45.0915;-64.362765
X-APPLE-STRUCTURED-LOCATION;VALUE=URI;X-ADDRESS=450 Main St\, Wolfville\, N
 S\, B4P 1E2\, Canada;X-APPLE-RADIUS=100;X-TITLE=Al Whittle Theatre:geo:45.
 0915,-64.362765
END:VEVENT
BEGIN:VTIMEZONE
TZID:America/Halifax
X-LIC-LOCATION:America/Halifax
BEGIN:DAYLIGHT
DTSTART:20160313T030000
TZOFFSETFROM:-0400
TZOFFSETTO:-0300
TZNAME:ADT
END:DAYLIGHT
END:VTIMEZONE
END:VCALENDAR