BEGIN:VCALENDAR
VERSION:2.0
PRODID:-//wp-events-plugin.com//7.2.3.1//EN
TZID:America/Halifax
X-WR-TIMEZONE:America/Halifax
BEGIN:VEVENT
UID:290@devourfest.com
DTSTART;TZID=America/Halifax:20161105T140000
DTEND;TZID=America/Halifax:20161105T153000
DTSTAMP:20161002T200618Z
URL:https://devourfest.com/program/sourdough-starter-workshop-with-chef-la
 ura-macleod/
SUMMARY:Sourdough Starter Workshop with Chef Laura MacLeod
DESCRIPTION:Learn the ins and outs of sourdough from the Halifax-based brea
 d maven herself. Topics include: baking a classic Euro-style sourdough\, t
 he different between a Euro-style and San Francisco-style sourdough\, star
 ters\, gluten\, mixing\, fermentation\, proofing\, scoring and baking.
ATTACH;FMTTYPE=image/jpeg:https://devourfest.com/wp-content/uploads/2016/0
 9/Laura-MacLeod-scaled.jpg
LOCATION:Al Whittle Theatre - Studio Z\, 450 Main St\, Wolfville\, NS\, B4P
  1E2\, Canada
GEO:45.091618;-64.362640
X-APPLE-STRUCTURED-LOCATION;VALUE=URI;X-ADDRESS=450 Main St\, Wolfville\, N
 S\, B4P 1E2\, Canada;X-APPLE-RADIUS=100;X-TITLE=Al Whittle Theatre - Studi
 o Z:geo:45.091618,-64.362640
END:VEVENT
BEGIN:VTIMEZONE
TZID:America/Halifax
X-LIC-LOCATION:America/Halifax
BEGIN:DAYLIGHT
DTSTART:20160313T030000
TZOFFSETFROM:-0400
TZOFFSETTO:-0300
TZNAME:ADT
END:DAYLIGHT
END:VTIMEZONE
END:VCALENDAR