BEGIN:VCALENDAR
VERSION:2.0
PRODID:-//wp-events-plugin.com//7.2.3.1//EN
TZID:America/Halifax
X-WR-TIMEZONE:America/Halifax
BEGIN:VEVENT
UID:880@devourfest.com
DTSTART;TZID=America/Halifax:20231026T110000
DTEND;TZID=America/Halifax:20231026T123000
DTSTAMP:20230907T120438Z
URL:https://devourfest.com/program/stella-w-ars-longa-vita-brevis/
SUMMARY:Stella w/Ars Longa\, Vita Brevis
DESCRIPTION:Stella\nThe Michelin Guide is one of the most influential and n
 otoriously secretive institutions in gastronomy\, and the awarding of its 
 Michelin Star is steeped in glamour. There has never been a pizzeria anywh
 ere in the world to receive this coveted award. Passionate Neapolitan pizz
 aiolo\, Ciro Oliva\, hopes to change this. \nUSA/Italy\, 2022\, 78 minute
 s\nDirector: Tyler Doehrin\nDistributor: Magnetfilm\n\n\nArs Longa\, Vita 
 Brevis\nGiuseppe\, a Sicilian winemaker\, attempts to hold onto the tradit
 ions of his craft that have been present for generations.\nIreland/Italy\,
  2022\, 4 minutes\nDirectors: Leslie Sharpe\, Corey McLaughlin\n
ATTACH;FMTTYPE=image/jpeg:https://devourfest.com/wp-content/uploads/2023/0
 8/Stella.jpeg
CATEGORIES:FILM
LOCATION:Al Whittle Theatre\, 450 Main St\, Wolfville\, NS\, B4P 1E2\, Cana
 da
GEO:45.0915;-64.362765
X-APPLE-STRUCTURED-LOCATION;VALUE=URI;X-ADDRESS=450 Main St\, Wolfville\, N
 S\, B4P 1E2\, Canada;X-APPLE-RADIUS=100;X-TITLE=Al Whittle Theatre:geo:45.
 0915,-64.362765
END:VEVENT
BEGIN:VTIMEZONE
TZID:America/Halifax
X-LIC-LOCATION:America/Halifax
BEGIN:DAYLIGHT
DTSTART:20230312T030000
TZOFFSETFROM:-0400
TZOFFSETTO:-0300
TZNAME:ADT
END:DAYLIGHT
END:VTIMEZONE
END:VCALENDAR