BEGIN:VCALENDAR
VERSION:2.0
PRODID:-//wp-events-plugin.com//7.2.3.1//EN
TZID:America/Halifax
X-WR-TIMEZONE:America/Halifax
BEGIN:VEVENT
UID:736@devourfest.com
DTSTART;TZID=America/Halifax:20211022T133000
DTEND;TZID=America/Halifax:20211022T143000
DTSTAMP:20210923T124240Z
URL:https://devourfest.com/program/storytelling-in-the-media-from-the-indi
 genous-perspective-online/
SUMMARY:Storytelling in the Media from the Indigenous Perspective - ONLINE
DESCRIPTION:Moderated by CBC’s Jeff Douglas\, independent filmmaker and j
 ournalist Trina Roache are joined by CBC Production executive Nic Meloney 
 in a candid conversation on the challenges\, joys\, and opportunities of t
 elling our First Nations stories. From guerilla documentary filmmaking to 
 moving the dial at the CBC\, this intriguing conversation will be of uniqu
 e appeal to emerging filmmakers.\nTicket Price: $20.00 online\nSponsored b
 y: Telefilm Canada\n\nTrina Roache\nTrina Roache is a proud member of the 
 Glooscap First Nation and mixed-heritage Mi’kmaw video journalist. She
 ’s worked at CBC and APTN. In 2018\, Trina moved from producing daily ne
 ws to documentaries for APTN Investigates. Over the years\, her work has f
 ocused on treaty rights\, policing\, the ongoing impacts of colonialism on
  Indigenous Peoples\, and more. She’s won regional and national awards\,
  with recognition from Amnesty International Canada\, the Canadian Associa
 tion of Journalists\, and the Native American Journalists Association. Tod
 ay\, Trina brings a Mi’kmaw perspective and two decades of experience in
  visual storytelling to her position on faculty as the Rogers Chair in Jou
 rnalism at the University of King’s College. @trinaroache\n\nNic Meloney
 \n\nNic Meloney is a mixed heritage Wolastoqi/Canadian Journalist and Prod
 uction Executive with CBC Unscripted. Working closely with independent cre
 ators from Inuit\, Métis and First Nations communities in documentary pro
 duction\, he also consults on Factual/Entertainment programming. A member 
 of Woodstock First Nation in Wolastokuk (New Brunswick) and a proud Cape B
 retoner\, he currently lives and works in Kjipuktuk (Halifax)\, Mi’kma
 ’ki (Nova Scotia). Nic previously worked as a reporter and video produce
 r with CBC Nova Scotia and CBC Indigenous\, covering the entire Atlantic r
 egion. His work has taken him to Indigenous communities across the country
  for the production and development of digital video features and televisi
 on documentaries\, both long and short form\, as well as syndicated\, loca
 l and national news content. @nicmeloney
ATTACH;FMTTYPE=image/jpeg:https://devourfest.com/wp-content/uploads/2021/0
 9/Trina-Roache-scaled.jpg
LOCATION:Online\, Online\,  \, Online\, Online\, Online\, Canada
GEO:43.808785;-79.334046
X-APPLE-STRUCTURED-LOCATION;VALUE=URI;X-ADDRESS=Online\,  \, Online\, Onlin
 e\, Online\, Canada;X-APPLE-RADIUS=100;X-TITLE=Online:geo:43.808785,-79.33
 4046
END:VEVENT
BEGIN:VTIMEZONE
TZID:America/Halifax
X-LIC-LOCATION:America/Halifax
BEGIN:DAYLIGHT
DTSTART:20210314T030000
TZOFFSETFROM:-0400
TZOFFSETTO:-0300
TZNAME:ADT
END:DAYLIGHT
END:VTIMEZONE
END:VCALENDAR