BEGIN:VCALENDAR
VERSION:2.0
PRODID:-//wp-events-plugin.com//7.2.3.1//EN
TZID:America/Halifax
X-WR-TIMEZONE:America/Halifax
BEGIN:VEVENT
UID:778@devourfest.com
DTSTART;TZID=America/Halifax:20211021T160000
DTEND;TZID=America/Halifax:20211021T183000
DTSTAMP:20211018T013402Z
URL:https://devourfest.com/program/taste-of-nova-scotia-awards-presentatio
 n-reception-in-person/
SUMMARY:Taste of Nova Scotia Awards Presentation & Reception - IN PERSON
DESCRIPTION:Launched in 2008\, the Taste of Nova Scotia Awards recognize an
 d celebrate the culinary leaders in Nova Scotia: the people and products t
 hat are at the heart of our great culinary experiences and successes. Thes
 e awards are the only province-wide program that celebrates Nova Scotian c
 ulinary producers\, developers\, exporters\, and servers— from Yarmouth 
 to Cape Breton and everywhere in between. A reception will follow the pres
 entation back at Devour! Studios (360 Main Street) from 5:15 p.m. to 6:30 
 p.m.\n\nSponsored by: Taste of Nova Scotia\n\nTicket Price: Free public ev
 ent. No ticket required. \n\nIn keeping with Nova Scotia provincial healt
 h regulations and a desire to keep all our guests safe and healthy\, Devou
 r! will require proof of full Covid-19 vaccine immunization along with a v
 alid photo ID upon entry to all events with no exceptions. For all Devour!
  Covid Protocols\, please visit our website.
ATTACH;FMTTYPE=image/jpeg:https://devourfest.com/wp-content/uploads/2021/0
 9/Taste-of-Nova-Scotia-Awards-Program-Reception-scaled.jpg
LOCATION:Al Whittle Theatre\, 450 Main St\, Wolfville\, NS\, B4P 1E2\, Cana
 da
GEO:45.0915;-64.362765
X-APPLE-STRUCTURED-LOCATION;VALUE=URI;X-ADDRESS=450 Main St\, Wolfville\, N
 S\, B4P 1E2\, Canada;X-APPLE-RADIUS=100;X-TITLE=Al Whittle Theatre:geo:45.
 0915,-64.362765
END:VEVENT
BEGIN:VTIMEZONE
TZID:America/Halifax
X-LIC-LOCATION:America/Halifax
BEGIN:DAYLIGHT
DTSTART:20210314T030000
TZOFFSETFROM:-0400
TZOFFSETTO:-0300
TZNAME:ADT
END:DAYLIGHT
END:VTIMEZONE
END:VCALENDAR