BEGIN:VCALENDAR
VERSION:2.0
PRODID:-//wp-events-plugin.com//7.2.3.1//EN
TZID:America/Halifax
X-WR-TIMEZONE:America/Halifax
BEGIN:VEVENT
UID:944@devourfest.com
DTSTART;TZID=America/Halifax:20241024T150000
DTEND;TZID=America/Halifax:20241024T170000
DTSTAMP:20241022T130535Z
URL:https://devourfest.com/program/taste-of-nova-scotia-awards-presentatio
 n-reception/
SUMMARY:Taste of Nova Scotia Awards Presentation & Reception
DESCRIPTION:Launched in 2008\, the Taste of Nova Scotia Awards honour and s
 howcase the culinary excellence of Nova Scotia. These awards shine a spotl
 ight on the individuals and products that play a vital role in creating ex
 ceptional culinary experiences and achievements in our province. The Taste
  of Nova Scotia Awards is the sole province-wide program that recognizes t
 he outstanding contributions of Nova Scotian culinary producers\, develope
 rs\, exporters\, and servers across the entire region\, from Yarmouth to C
 ape Breton and every locale in between. Come celebrate the best of Nova Sc
 otia’s culinary community.\n\nTicket Price: Free admission\, includes a 
 reception with food and beverage\nSponsored by Taste of Nova Scotia\n
ATTACH;FMTTYPE=image/jpeg:https://devourfest.com/wp-content/uploads/2024/0
 9/Taste-of-Nova-Scotia-Awards-Presentation-_-Reception-2.jpeg
CATEGORIES:EVENT
LOCATION:Devour! Studios C\, 360 Main Street\, Wolfville\, Nova Scotia\, B4
 P1C4\, Canada
GEO:45.091942;-64.359045
X-APPLE-STRUCTURED-LOCATION;VALUE=URI;X-ADDRESS=360 Main Street\, Wolfville
 \, Nova Scotia\, B4P1C4\, Canada;X-APPLE-RADIUS=100;X-TITLE=Devour! Studio
 s C:geo:45.091942,-64.359045
END:VEVENT
BEGIN:VTIMEZONE
TZID:America/Halifax
X-LIC-LOCATION:America/Halifax
BEGIN:DAYLIGHT
DTSTART:20240310T030000
TZOFFSETFROM:-0400
TZOFFSETTO:-0300
TZNAME:ADT
END:DAYLIGHT
END:VTIMEZONE
END:VCALENDAR