BEGIN:VCALENDAR
VERSION:2.0
PRODID:-//wp-events-plugin.com//7.2.3.1//EN
TZID:America/Halifax
X-WR-TIMEZONE:America/Halifax
BEGIN:VEVENT
UID:583@devourfest.com
DTSTART;TZID=America/Halifax:20191024T140000
DTEND;TZID=America/Halifax:20191024T150000
DTSTAMP:20191023T124304Z
URL:https://devourfest.com/program/taste-of-nova-scotia-awards-program-rec
 eption/
SUMMARY:Taste of Nova Scotia Awards Program & Reception
DESCRIPTION:We’re thrilled to once again host the Taste of Nova Scotia Aw
 ards. These awards provide an annual opportunity for Taste of Nova Scotia 
 members and the public to celebrate and honour the people who produce\, de
 velop\, export\, prepare\, and serve the best quality local food and culin
 ary experiences in the province. Join us for a special celebration of this
  year’s winners followed by a reception from 3:15 p.m. - 4:15 p.m at Ben
 jamin Bridge.\n\nFree admission\n\nSponsored by Taste of Nova Scotia\n\n&n
 bsp\;
ATTACH;FMTTYPE=image/jpeg:https://devourfest.com/wp-content/uploads/2019/0
 9/Taste-of-Nova-Scotia-Awards-Program-_-Reception_resized.jpg
LOCATION:Al Whittle Theatre\, 450 Main St\, Wolfville\, NS\, B4P 1E2\, Cana
 da
GEO:45.0915;-64.362765
X-APPLE-STRUCTURED-LOCATION;VALUE=URI;X-ADDRESS=450 Main St\, Wolfville\, N
 S\, B4P 1E2\, Canada;X-APPLE-RADIUS=100;X-TITLE=Al Whittle Theatre:geo:45.
 0915,-64.362765
END:VEVENT
BEGIN:VTIMEZONE
TZID:America/Halifax
X-LIC-LOCATION:America/Halifax
BEGIN:DAYLIGHT
DTSTART:20190310T030000
TZOFFSETFROM:-0400
TZOFFSETTO:-0300
TZNAME:ADT
END:DAYLIGHT
END:VTIMEZONE
END:VCALENDAR