BEGIN:VCALENDAR
VERSION:2.0
PRODID:-//wp-events-plugin.com//7.2.3.1//EN
TZID:America/Halifax
X-WR-TIMEZONE:America/Halifax
BEGIN:VEVENT
UID:240@devourfest.com
DTSTART;TZID=America/Halifax:20161103T140000
DTEND;TZID=America/Halifax:20161103T150000
DTSTAMP:20161027T173507Z
URL:https://devourfest.com/program/taste-of-nova-scotia-awards-program/
SUMMARY:Taste of Nova Scotia Awards Program
DESCRIPTION:We’re once again thrilled to host the Taste of Nova Scotia Aw
 ards at our event this year. These awards provide annual opportunity for T
 aste of Nova Scotia members and the public to celebrate and honour the peo
 ple who produce\, develop\, export\, prepare and serve the best quality lo
 cal food and culinary experiences in the province. Join us for a very spec
 ial celebration of this year’s winners.\n\nFree admission.
ATTACH;FMTTYPE=image/jpeg:https://devourfest.com/wp-content/uploads/2016/0
 9/2016-TONS-Awards-Header-1.jpg
LOCATION:Al Whittle Theatre\, 450 Main St\, Wolfville\, NS\, B4P 1E2\, Cana
 da
GEO:45.0915;-64.362765
X-APPLE-STRUCTURED-LOCATION;VALUE=URI;X-ADDRESS=450 Main St\, Wolfville\, N
 S\, B4P 1E2\, Canada;X-APPLE-RADIUS=100;X-TITLE=Al Whittle Theatre:geo:45.
 0915,-64.362765
END:VEVENT
BEGIN:VTIMEZONE
TZID:America/Halifax
X-LIC-LOCATION:America/Halifax
BEGIN:DAYLIGHT
DTSTART:20160313T030000
TZOFFSETFROM:-0400
TZOFFSETTO:-0300
TZNAME:ADT
END:DAYLIGHT
END:VTIMEZONE
END:VCALENDAR