BEGIN:VCALENDAR
VERSION:2.0
PRODID:-//wp-events-plugin.com//7.2.3.1//EN
TZID:America/Halifax
X-WR-TIMEZONE:America/Halifax
BEGIN:VEVENT
UID:480@devourfest.com
DTSTART;TZID=America/Halifax:20181025T150000
DTEND;TZID=America/Halifax:20181025T170000
DTSTAMP:20181002T181258Z
URL:https://devourfest.com/program/taste-of-nova-scotia-awards-reception/
SUMMARY:Taste of Nova Scotia Awards Reception
DESCRIPTION:Join us for a very special celebration of this year’s Taste o
 f Nova Scotia Award winners in the Devour! Festival Lounge \n\nAdmission 
 with festival badge or ticket.\n\n&nbsp\;
ATTACH;FMTTYPE=image/jpeg:https://devourfest.com/wp-content/uploads/2018/0
 8/Taste-of-Nova-Scotia-Awards-Reception.jpg
LOCATION:Devour! Festival Lounge & Box Office\, 12 Elm Avenue\, Wolfville\,
  NS\, B4P 2S2\, Canada
GEO:45.092171;-64.364128
X-APPLE-STRUCTURED-LOCATION;VALUE=URI;X-ADDRESS=12 Elm Avenue\, Wolfville\,
  NS\, B4P 2S2\, Canada;X-APPLE-RADIUS=100;X-TITLE=Devour! Festival Lounge 
 & Box Office:geo:45.092171,-64.364128
END:VEVENT
BEGIN:VTIMEZONE
TZID:America/Halifax
X-LIC-LOCATION:America/Halifax
BEGIN:DAYLIGHT
DTSTART:20180311T030000
TZOFFSETFROM:-0400
TZOFFSETTO:-0300
TZNAME:ADT
END:DAYLIGHT
END:VTIMEZONE
END:VCALENDAR