BEGIN:VCALENDAR
VERSION:2.0
PRODID:-//wp-events-plugin.com//7.2.3.1//EN
TZID:America/Halifax
X-WR-TIMEZONE:America/Halifax
BEGIN:VEVENT
UID:199@devourfest.com
DTSTART;TZID=America/Halifax:20151106T140000
DTEND;TZID=America/Halifax:20151106T160000
DTSTAMP:20150924T160554Z
URL:https://devourfest.com/program/taste-of-nova-scotia-prestige-awards/
SUMMARY:Taste of Nova Scotia Prestige Awards
DESCRIPTION:We're thrilled to host the Taste of Nova Scotia Prestige Awards
  of Excellence at our event this year. These awards provide annual opportu
 nity for Taste of Nova Scotia members and the public to celebrate and hono
 ur the people who produce\, develop\, export\, prepare and serve the best 
 quality local food and culinary experiences in the province. Join us for a
  very special celebration of this year's winners. 
ATTACH;FMTTYPE=image/jpeg:https://devourfest.com/wp-content/uploads/2015/0
 9/2015-Prestige-Awards-Header.jpg
LOCATION:Al Whittle Theatre\, 450 Main St\, Wolfville\, NS\, B4P 1E2\, Cana
 da
GEO:45.0915;-64.362765
X-APPLE-STRUCTURED-LOCATION;VALUE=URI;X-ADDRESS=450 Main St\, Wolfville\, N
 S\, B4P 1E2\, Canada;X-APPLE-RADIUS=100;X-TITLE=Al Whittle Theatre:geo:45.
 0915,-64.362765
END:VEVENT
BEGIN:VTIMEZONE
TZID:America/Halifax
X-LIC-LOCATION:America/Halifax
BEGIN:STANDARD
DTSTART:20151101T010000
TZOFFSETFROM:-0300
TZOFFSETTO:-0400
TZNAME:AST
END:STANDARD
END:VTIMEZONE
END:VCALENDAR