BEGIN:VCALENDAR
VERSION:2.0
PRODID:-//wp-events-plugin.com//7.2.3.1//EN
TZID:America/Halifax
X-WR-TIMEZONE:America/Halifax
BEGIN:VEVENT
UID:846@devourfest.com
DTSTART;TZID=America/Halifax:20221027T160000
DTEND;TZID=America/Halifax:20221027T170000
DTSTAMP:20220923T194611Z
URL:https://devourfest.com/program/taste-of-ns-awards-presentation-recepti
 on/
SUMMARY:Taste of NS Awards Presentation & Reception
DESCRIPTION:Launched in 2008\, the Taste of Nova Scotia Awards recognize an
 d celebrate the culinary leaders in Nova Scotia: the people and products a
 t the heart of our great culinary experiences and successes. These awards 
 are the only province-wide program that celebrates Nova Scotian culinary p
 roducers\, developers\, exporters\, and servers—from Yarmouth to Cape Br
 eton and everywhere in between. A reception will follow the presentation b
 ack at Devour! Studios from 5:15 p.m. to 6:30 p.m.\n\nTicket Price: Free a
 dmission\n\nSponsored by Taste of Nova Scotia
ATTACH;FMTTYPE=image/jpeg:https://devourfest.com/wp-content/uploads/2022/0
 9/Taste-of-Nova-Scotia-Awards-Program-Reception-scaled.jpg
CATEGORIES:EVENT
LOCATION:Al Whittle Theatre\, 450 Main St\, Wolfville\, NS\, B4P 1E2\, Cana
 da
GEO:45.0915;-64.362765
X-APPLE-STRUCTURED-LOCATION;VALUE=URI;X-ADDRESS=450 Main St\, Wolfville\, N
 S\, B4P 1E2\, Canada;X-APPLE-RADIUS=100;X-TITLE=Al Whittle Theatre:geo:45.
 0915,-64.362765
END:VEVENT
BEGIN:VTIMEZONE
TZID:America/Halifax
X-LIC-LOCATION:America/Halifax
BEGIN:DAYLIGHT
DTSTART:20220313T030000
TZOFFSETFROM:-0400
TZOFFSETTO:-0300
TZNAME:ADT
END:DAYLIGHT
END:VTIMEZONE
END:VCALENDAR