BEGIN:VCALENDAR
VERSION:2.0
PRODID:-//wp-events-plugin.com//7.2.3.1//EN
TZID:America/Halifax
X-WR-TIMEZONE:America/Halifax
BEGIN:VEVENT
UID:977@devourfest.com
DTSTART;TZID=America/Halifax:20241027T140000
DTEND;TZID=America/Halifax:20241027T170000
DTSTAMP:20241007T012549Z
URL:https://devourfest.com/program/the-9th-annual-great-devour-community-c
 hicken-supper/
SUMMARY:The 9th Annual Great Devour! Community Chicken Supper
DESCRIPTION:Devour! is excited to announce the return of our ninth annual e
 vent in support of regional food banks in the Annapolis Valley. We will be
  serving a delicious locally roasted chicken dinner with all the trimmings
  prepared by the legendary Chimney Swifts Cooking Club\, along with our ta
 lented visiting chefs and volunteers. This event is open to everyone\, so 
 come out and enjoy a tasty meal while also celebrating our dedicated commu
 nity volunteers who have made the festival a success. The evening will fea
 ture music by Colrain curated by the Deep Roots Music Cooperative\, so get
  ready to dance under the tents at Waterfront Park. \n\nTicket Price: $20
 .00 donation or a pre-issued ticket from a regional food bank\n\nSponsored
  by Assante Wealth Management\, Chicken Farmers of Nova Scotia\, Perennia\
 , in partnership with the NS Dept of Agriculture\, Payzant Home Furniture\
 , Community Partners: Local Food Banks\, Chimney Swift Chefs\, Deep Roots 
 Music Festival\n\n\nColrain\n\nHailing from Wolfville\, Nova Scotia\, Colr
 ain is an indie-folk-rock ensemble celebrated for their rich lyrics\, poli
 shed instrumentals\, and strong community ties. While songwriting is a sha
 red passion\, the band finds true fulfillment in live performances\, forgi
 ng connections with their supportive audience. Drawing from diverse musica
 l backgrounds\, including classical\, folk\, jazz\, country\, funk\, punk\
 , and rock\, Colrain’s sound transcends conventional genres\, creating a
  unique identity. Their debut EP\, “Here We Are\,” showcases their aut
 hentic approach\, embracing their identity without pretense. With an unwav
 ering stage presence\, Colrain invites listeners to experience a personal 
 connection with their music. 
ATTACH;FMTTYPE=image/jpeg:https://devourfest.com/wp-content/uploads/2018/0
 9/Great-Devour-Chicken-Dinner-1.jpeg
CATEGORIES:EVENT
LOCATION:Wolfville Waterfront Park\, Wolfville Waterfront Park\, Wolfville\
 , NS\, Canada
GEO:45.092816;-64.358775
X-APPLE-STRUCTURED-LOCATION;VALUE=URI;X-ADDRESS=Wolfville Waterfront Park\,
  Wolfville\, NS\, Canada;X-APPLE-RADIUS=100;X-TITLE=Wolfville Waterfront P
 ark:geo:45.092816,-64.358775
END:VEVENT
BEGIN:VTIMEZONE
TZID:America/Halifax
X-LIC-LOCATION:America/Halifax
BEGIN:DAYLIGHT
DTSTART:20240310T030000
TZOFFSETFROM:-0400
TZOFFSETTO:-0300
TZNAME:ADT
END:DAYLIGHT
END:VTIMEZONE
END:VCALENDAR