BEGIN:VCALENDAR
VERSION:2.0
PRODID:-//wp-events-plugin.com//7.2.3.1//EN
TZID:America/Halifax
X-WR-TIMEZONE:America/Halifax
BEGIN:VEVENT
UID:293@devourfest.com
DTSTART;TZID=America/Halifax:20161105T150000
DTEND;TZID=America/Halifax:20161105T170000
DTSTAMP:20160929T135644Z
URL:https://devourfest.com/program/the-all-you-need-is-cheese-express-18/
SUMMARY:The All You Need is Cheese Express
DESCRIPTION:Hop on our express bus to the Starr's Point Loop–first stop i
 s Planter's Ridge Winery for a guided tasting of both local and award-win
 ning cheeses from across Canada\, curated by Canadian Cheese Grand Prix Ch
 airman\, Phil Bélanger\, and paired with wines at the source. Then it's o
 n to a quick tour of Fox Hill Cheese House\, one of Nova Scotia's most pr
 ominent fromageries. Enjoy the views of beautiful Starrs Point on the ret
 urn trip to Wolfville. This Devour! The Bounty of Kings County Tasting Tou
 r is facilitated by our partner Grape Escapes Wine Tours. Round trip: 2 ho
 urs.\n\n\n\nPhil Bélanger\n\nPhil is a cheese expert and independent cons
 ultant working with the Dairy Farmers of Canada\, and has been a part of t
 he Canadian Cheese Grand Prix national competition since its inception in 
 1998\, and Chairman since 2009. His passion for cheese goes back to his ea
 rly childhood and he has been exploring cheese ever since. Not only has he
  done his studies in cheese\, but also sommellerie in France. Amazed by th
 e on-going innovative excellence in the Canadian cheese making industry\, 
 in the last two decades he has been focusing on Canadian Cheese\, with att
 ention on pairing with wine\, and also with beer becoming a growing trend.
  He has had a distinguished career in the Atlantic agrifood industry\, whi
 ch included directing a Provincial Hotel and Culinary Training Institution
 \, where he developed and managed all aspects of its programs. He currentl
 y is executive director in the NB department of Post-Secondary Education\,
  Training and Labour\, and chairman of La Confrérie de la Chaîne des Rô
 tisseurs for the New Brunswick chapter.
ATTACH;FMTTYPE=image/jpeg:https://devourfest.com/wp-content/uploads/2016/0
 9/All-You-Need-is-Cheese-Express-2.jpg
LOCATION:Linden Avenue & Main Street\, Linden Avenue &amp\; Main Street\, W
 olfville\, NS\, Canada
GEO:45.091400;-64.362785
X-APPLE-STRUCTURED-LOCATION;VALUE=URI;X-ADDRESS=Linden Avenue & Main Street
 \, Wolfville\, NS\, Canada;X-APPLE-RADIUS=100;X-TITLE=Linden Avenue & Main
  Street:geo:45.091400,-64.362785
END:VEVENT
BEGIN:VTIMEZONE
TZID:America/Halifax
X-LIC-LOCATION:America/Halifax
BEGIN:DAYLIGHT
DTSTART:20160313T030000
TZOFFSETFROM:-0400
TZOFFSETTO:-0300
TZNAME:ADT
END:DAYLIGHT
END:VTIMEZONE
END:VCALENDAR