BEGIN:VCALENDAR
VERSION:2.0
PRODID:-//wp-events-plugin.com//7.2.3.1//EN
TZID:America/Halifax
X-WR-TIMEZONE:America/Halifax
BEGIN:VEVENT
UID:112@devourfest.com
DTSTART;TZID=America/Halifax:20141115T150000
DTEND;TZID=America/Halifax:20141115T170000
DTSTAMP:20140922T114146Z
URL:https://devourfest.com/program/the-all-you-need-is-cheese-express-5/
SUMMARY:The All You Need is Cheese Express
DESCRIPTION:Hop on our express bus to Fox Hill Cheese House and enjoy a vis
 it to Nova Scotia’s most prominent Fromagerie. This is a great opportuni
 ty to enjoy tastings of both local and award-winning cheese from across Ca
 nada\, curated by Canadian Cheese Grand Prix Chairman\, Phil Bélanger. Lo
 cal artisanal beers and ciders will accompany the cheeses. Enjoy the views
  of beautiful Starrs Point on the return trip to Wolfville.\n\nRound trip:
  2 hours.\n\nPhil Bélanger\n\n\n\nA well-known food gourmet and cheese ex
 pert\, Phil Bélanger has been a part of the Canadian Cheese Grand Prix na
 tional competition since its inception in 1998\, and chairman of the compe
 tition since 2009.\n\nPhil has had a distinguished career in the Atlantic 
 agrifood industry\, including directing a Provincial Hotel and Culinary Tr
 aining Institution\, where he developed and managed all aspects of the hot
 el\, restaurant and tourism programs. He is currently the executive direct
 or in the New Brunswick department of Post-Secondary Education\, Training 
 and Labour\, as well as chairman of La Confrérie de la Chaîne des Rôtis
 seurs for the New Brunswick chapter. He also works as an independent consu
 ltant with the Dairy Farmers of Canada\, where he conducts educational pre
 sentations and seminars on Canadian cheese. His passion for Canadian chees
 e keeps Phil exploring the country in search of new jewels in the world of
  cheese.
ATTACH;FMTTYPE=image/jpeg:https://devourfest.com/wp-content/uploads/2014/0
 9/In-Theatre-Cheese-Tasting-Devour-Photo.jpg
LOCATION:Linden Avenue & Main Street\, Linden Avenue &amp\; Main Street\, W
 olfville\, NS\, Canada
GEO:45.091400;-64.362785
X-APPLE-STRUCTURED-LOCATION;VALUE=URI;X-ADDRESS=Linden Avenue & Main Street
 \, Wolfville\, NS\, Canada;X-APPLE-RADIUS=100;X-TITLE=Linden Avenue & Main
  Street:geo:45.091400,-64.362785
END:VEVENT
BEGIN:VTIMEZONE
TZID:America/Halifax
X-LIC-LOCATION:America/Halifax
BEGIN:STANDARD
DTSTART:20141102T010000
TZOFFSETFROM:-0300
TZOFFSETTO:-0400
TZNAME:AST
END:STANDARD
END:VTIMEZONE
END:VCALENDAR