BEGIN:VCALENDAR
VERSION:2.0
PRODID:-//wp-events-plugin.com//7.2.3.1//EN
TZID:America/Halifax
X-WR-TIMEZONE:America/Halifax
BEGIN:VEVENT
UID:180@devourfest.com
DTSTART;TZID=America/Halifax:20151106T110000
DTEND;TZID=America/Halifax:20151106T130000
DTSTAMP:20151027T144029Z
URL:https://devourfest.com/program/the-all-you-need-is-cheese-express-7/
SUMMARY:The All You Need Is Cheese Express
DESCRIPTION:Hop on our express bus to Fox Hill Cheese House to enjoy a tou
 r of Nova Scotia’s most prominent fromagerie. This is a great opportuni
 ty to enjoy tastings of both local and award-winning cheeses from across C
 anada\, curated by Canadian Cheese Grand Prix Chairman\, Phil Bélanger. T
 hen it's on to Planter’s Ridge Winery for wines to accompany the cheeses
  (and artisanal cider from our friends at Bulwark Cider!). Enjoy the views
  of beautiful Starrs Point on the return trip to Wolfville. This Devour! T
 he Bounty of Kings County Tasting Tour is facilitated by our partner Grap
 e Escapes Nova Scotia Wine Tours. Round trip: 2 hours.
ATTACH;FMTTYPE=image/jpeg:https://devourfest.com/wp-content/uploads/2015/0
 9/rsz_1all_you_need_is_cheese_express.jpg
LOCATION:Linden Avenue & Main Street\, Linden Avenue &amp\; Main Street\, W
 olfville\, NS\, Canada
GEO:45.091400;-64.362785
X-APPLE-STRUCTURED-LOCATION;VALUE=URI;X-ADDRESS=Linden Avenue & Main Street
 \, Wolfville\, NS\, Canada;X-APPLE-RADIUS=100;X-TITLE=Linden Avenue & Main
  Street:geo:45.091400,-64.362785
END:VEVENT
BEGIN:VTIMEZONE
TZID:America/Halifax
X-LIC-LOCATION:America/Halifax
BEGIN:STANDARD
DTSTART:20151101T010000
TZOFFSETFROM:-0300
TZOFFSETTO:-0400
TZNAME:AST
END:STANDARD
END:VTIMEZONE
END:VCALENDAR