BEGIN:VCALENDAR
VERSION:2.0
PRODID:-//wp-events-plugin.com//7.2.3.1//EN
TZID:America/Halifax
X-WR-TIMEZONE:America/Halifax
BEGIN:VEVENT
UID:859@devourfest.com
DTSTART;TZID=America/Halifax:20221030T140000
DTEND;TZID=America/Halifax:20221030T163000
DTSTAMP:20221001T193326Z
URL:https://devourfest.com/program/the-art-of-eating-the-life-and-appetite
 s-of-mfk-fisher-w-the-mothers-seat/
SUMMARY:The Art of Eating: The Life and Appetites of MFK Fisher w/The Mothe
 r's Seat
DESCRIPTION:When Mary Frances Kennedy Fisher wrote about food\, she also wr
 ote about eccentricity\, intimacy\, and desire\, about change\, endurance\
 , and survival. M.F.K. Fisher’s work laid the foundation of modern liter
 ary food writing.  The Art of Eating traces the remarkable life of this v
 ibrant\, sensual writer\, and explores the impact of her ideas on food and
  its meaning in our lives.\n\nUSA\, 2022\, 85 minutes\nDirector: Gregory B
 ezat\nDistributor: Bezat Video Group\n\n\n\nThe Mother’s Seat\n\nBelievi
 ng that she has received a sign from her deceased mother\, Veera tries to 
 bring her family back together by cooking the mother’s dhal for her youn
 ger sister and withdrawn father.\n\nCanada\, 2022\, 11 minutes\nDirector: 
 Kaia Singh\n\nSponsored by Atlantic News
ATTACH;FMTTYPE=image/jpeg:https://devourfest.com/wp-content/uploads/2022/0
 9/The-Art-of-Eating-The-Life-and-Appetites-of-MFK-Fisher.jpg
CATEGORIES:FILM
LOCATION:Al Whittle Theatre\, 450 Main St\, Wolfville\, NS\, B4P 1E2\, Cana
 da
GEO:45.0915;-64.362765
X-APPLE-STRUCTURED-LOCATION;VALUE=URI;X-ADDRESS=450 Main St\, Wolfville\, N
 S\, B4P 1E2\, Canada;X-APPLE-RADIUS=100;X-TITLE=Al Whittle Theatre:geo:45.
 0915,-64.362765
END:VEVENT
BEGIN:VTIMEZONE
TZID:America/Halifax
X-LIC-LOCATION:America/Halifax
BEGIN:DAYLIGHT
DTSTART:20220313T030000
TZOFFSETFROM:-0400
TZOFFSETTO:-0300
TZNAME:ADT
END:DAYLIGHT
END:VTIMEZONE
END:VCALENDAR