BEGIN:VCALENDAR
VERSION:2.0
PRODID:-//wp-events-plugin.com//7.2.3.1//EN
TZID:America/Halifax
X-WR-TIMEZONE:America/Halifax
BEGIN:VEVENT
UID:809@devourfest.com
DTSTART;TZID=America/Halifax:20221025T133000
DTEND;TZID=America/Halifax:20221025T153000
DTSTAMP:20221001T191549Z
URL:https://devourfest.com/program/the-big-picture-program-from-seed-to-se
 ed-in-person/
SUMMARY:The Big Picture Program: From Seed to Seed - IN PERSON
DESCRIPTION:This charming film chronicles several years in the life of a fa
 mily farm\, through thick and thin\, delving into conventional versus orga
 nic farming in the most open and honest way.\n\nCanada\, 2017\, 87 minutes
 \nDirector: Katharina Stieffenhofer\nDistributor: Katharina Stieffenhofer\
 n\nNote: Recommended for Grades 9-12. Nourish Nova Scotia will host a 25-m
 inute moderated session for students following the screening of this film.
  \n\nSponsored by the Nova Scotia Teachers Union\, Nourish Nova Scotia and
  Telefilm Canada
ATTACH;FMTTYPE=image/jpeg:https://devourfest.com/wp-content/uploads/2022/0
 9/From-Seed-to-Seed.jpg
CATEGORIES:FILM
LOCATION:Al Whittle Theatre\, 450 Main St\, Wolfville\, NS\, B4P 1E2\, Cana
 da
GEO:45.0915;-64.362765
X-APPLE-STRUCTURED-LOCATION;VALUE=URI;X-ADDRESS=450 Main St\, Wolfville\, N
 S\, B4P 1E2\, Canada;X-APPLE-RADIUS=100;X-TITLE=Al Whittle Theatre:geo:45.
 0915,-64.362765
END:VEVENT
BEGIN:VTIMEZONE
TZID:America/Halifax
X-LIC-LOCATION:America/Halifax
BEGIN:DAYLIGHT
DTSTART:20220313T030000
TZOFFSETFROM:-0400
TZOFFSETTO:-0300
TZNAME:ADT
END:DAYLIGHT
END:VTIMEZONE
END:VCALENDAR