BEGIN:VCALENDAR
VERSION:2.0
PRODID:-//wp-events-plugin.com//7.2.3.1//EN
TZID:America/Halifax
X-WR-TIMEZONE:America/Halifax
BEGIN:VEVENT
UID:801@devourfest.com
DTSTART;TZID=America/Halifax:20221024T133000
DTEND;TZID=America/Halifax:20221024T153000
DTSTAMP:20220923T193816Z
URL:https://devourfest.com/program/the-big-picture-program-toxic-puzzle-in
 -person/
SUMMARY:The Big Picture Program: Toxic Puzzle - IN PERSON
DESCRIPTION:We are on the brink of an ecological catastrophe. Due to pollut
 ion\, and with climate change compounding the situation\, cyanobacteria ar
 e growing more than ever. Toxic blooms now occur in lakes\, rivers\, dams\
 , and lagoons all over the world. Meanwhile\, diseases linked to this bact
 eria — such as ALS\, Alzheimer’s\, and Parkinson’s — are increasin
 g in many countries.\n\nUSA\, 2017\, 82 minutes\nDirector: Bo Landin\nDist
 ributor: Gunpowder &amp\; Sky\n\nNote: Recommended for Grades 9-12. Nouris
 h Nova Scotia will host a 25-minute moderated session for students followi
 ng the screening of this film. \n\nSponsored by the Nova Scotia Teachers 
 Union and Nourish Nova Scotia
ATTACH;FMTTYPE=image/jpeg:https://devourfest.com/wp-content/uploads/2022/0
 9/toxic.jpg
CATEGORIES:FILM
LOCATION:Al Whittle Theatre\, 450 Main St\, Wolfville\, NS\, B4P 1E2\, Cana
 da
GEO:45.0915;-64.362765
X-APPLE-STRUCTURED-LOCATION;VALUE=URI;X-ADDRESS=450 Main St\, Wolfville\, N
 S\, B4P 1E2\, Canada;X-APPLE-RADIUS=100;X-TITLE=Al Whittle Theatre:geo:45.
 0915,-64.362765
END:VEVENT
BEGIN:VTIMEZONE
TZID:America/Halifax
X-LIC-LOCATION:America/Halifax
BEGIN:DAYLIGHT
DTSTART:20220313T030000
TZOFFSETFROM:-0400
TZOFFSETTO:-0300
TZNAME:ADT
END:DAYLIGHT
END:VTIMEZONE
END:VCALENDAR