BEGIN:VCALENDAR
VERSION:2.0
PRODID:-//wp-events-plugin.com//7.2.3.1//EN
TZID:America/Halifax
X-WR-TIMEZONE:America/Halifax
BEGIN:VEVENT
UID:805@devourfest.com
DTSTART;TZID=America/Halifax:20221025T100000
DTEND;TZID=America/Halifax:20221025T115000
DTSTAMP:20221008T180432Z
URL:https://devourfest.com/program/the-big-picture-shorts-program-online/
SUMMARY:The Big Picture Shorts Program - ONLINE
DESCRIPTION:When the Swallows Fly\n\nIn a small rural village\, a young boy
  befriends Fernand and Andrée\, a farmer couple who\, at 80 years old\, f
 ind themselves having trouble feeding their remaining livestock.\n\nBelgiu
 m\, 2022\, 19 minutes\nDirector: Sébastien Pins\n\nTransfarmation\n\nSara
 h Heiligtag\, a Swiss animal activist\, helps farmers who struggle morally
  with using animals to transform their animal farms into vegan farms and s
 anctuaries.\n\nUSA\, 2022\, 6 minutes\nDirectors: Thomas Machowicz &amp\; 
 Sabina Diethelm\n\nIn Love with a Problem\n\nMiranda Wang and Jeanny Yao w
 ere still in high school when they discovered plastic-eating bacteria in V
 ancouver’s Fraser River. Passionate about the problem of plastic waste\,
  the two millennial innovators are now on an inspiring journey to solve it
 .\n\nCanada\, 2021\, 22 minutes\nDirector: Julie Kim\n\nThe Caretakers\n\n
 \nA journey into the weird\, wonderful\, and truly astonishing lives of th
 e small yet mighty creatures who keep the world turning: beetles.\n\nUSA\,
  2021\, 21 minutes\nDirector: Tom Hanner
ATTACH;FMTTYPE=image/jpeg:https://devourfest.com/wp-content/uploads/2022/0
 9/When-the-Swallows-Fly1.jpg
CATEGORIES:FILM
LOCATION:Online\, Online\,  \, Online\, Online\, Online\, Canada
GEO:43.808785;-79.334046
X-APPLE-STRUCTURED-LOCATION;VALUE=URI;X-ADDRESS=Online\,  \, Online\, Onlin
 e\, Online\, Canada;X-APPLE-RADIUS=100;X-TITLE=Online:geo:43.808785,-79.33
 4046
END:VEVENT
BEGIN:VTIMEZONE
TZID:America/Halifax
X-LIC-LOCATION:America/Halifax
BEGIN:DAYLIGHT
DTSTART:20220313T030000
TZOFFSETFROM:-0400
TZOFFSETTO:-0300
TZNAME:ADT
END:DAYLIGHT
END:VTIMEZONE
END:VCALENDAR