BEGIN:VCALENDAR
VERSION:2.0
PRODID:-//wp-events-plugin.com//7.2.3.1//EN
TZID:America/Halifax
X-WR-TIMEZONE:America/Halifax
BEGIN:VEVENT
UID:574@devourfest.com
DTSTART;TZID=America/Halifax:20191027T141500
DTEND;TZID=America/Halifax:20191027T160000
DTSTAMP:20190912T010837Z
URL:https://devourfest.com/program/the-cake-general-w-creamed-lobster-nova
 -scotia-style/
SUMMARY:The Cake General w/Creamed Lobster Nova Scotia-Style
DESCRIPTION:Based on a true story\, The Cake General is an outrageous\, unc
 onventional comedy set in the eighties about an eccentric resident of “t
 he most boring town in Sweden” who decides to put his sleepy hamlet on t
 he map by assembling the world’s longest layer cake.\nSweden\, 2018\, 10
 1 minutes\nDirectors Filip Hammar &amp\; Fredrik Wikingsson\nDistributor M
 edia Luna\n\nCreamed Lobster Nova Scotia-Style\n\nNova Scotia cook and foo
 d blogger Laura Muise brings lobster from the sea to the plate with her ve
 rsion of a signature dish\, creamed lobster over toast. \nCanada\, 2019\, 
 4 minutes\nDirector Laura Muise
ATTACH;FMTTYPE=image/jpeg:https://devourfest.com/wp-content/uploads/2019/0
 9/The-Cake-General_resized.jpg
LOCATION:Al Whittle Theatre - Studio Z\, 450 Main St\, Wolfville\, NS\, B4P
  1E2\, Canada
GEO:45.091618;-64.362640
X-APPLE-STRUCTURED-LOCATION;VALUE=URI;X-ADDRESS=450 Main St\, Wolfville\, N
 S\, B4P 1E2\, Canada;X-APPLE-RADIUS=100;X-TITLE=Al Whittle Theatre - Studi
 o Z:geo:45.091618,-64.362640
END:VEVENT
BEGIN:VTIMEZONE
TZID:America/Halifax
X-LIC-LOCATION:America/Halifax
BEGIN:DAYLIGHT
DTSTART:20190310T030000
TZOFFSETFROM:-0400
TZOFFSETTO:-0300
TZNAME:ADT
END:DAYLIGHT
END:VTIMEZONE
END:VCALENDAR