BEGIN:VCALENDAR
VERSION:2.0
PRODID:-//wp-events-plugin.com//7.2.3.1//EN
TZID:America/Halifax
X-WR-TIMEZONE:America/Halifax
BEGIN:VEVENT
UID:991@devourfest.com
DTSTART;TZID=America/Halifax:20251022T130000
DTEND;TZID=America/Halifax:20251022T150000
DTSTAMP:20250904T110641Z
URL:https://devourfest.com/program/the-chef-and-the-daruma-w-leonard-cohen
 -in-the-eating-disorder-ward/
SUMMARY:The Chef and The Daruma w/Leonard Cohen in the Eating Disorder Ward
DESCRIPTION:The Chef &amp\; The Daruma \nHidekazu Tojo transformed sushi i
 n North America with the introduction of the now iconic California Roll. F
 acing racism and cultural challenges in 1970s Vancouver\, this documentary
  chronicles his struggles\, resilience\, and search for identity\, while i
 ntertwining his story with the Daruma fable—symbolizing perseverance and
  the strength to rise after adversity.\nCanada\, 2024\, 90 minutes\nDirect
 or Mads Baekkevold\nDistributor wallopfilm\n\nLeonard Cohen in the Eating 
 Disorder Ward\n\nA hungry queer/trans poet envisions meeting Leonard Cohen
  in a hospital ward for disordered eaters\, navigating extremes of diet\, 
 identity\, and creativity.\nCanada\, 2025\, 5 minutes\nDirector Lucas Craw
 ford\n\nSponsored by Telefilm Canada
ATTACH;FMTTYPE=image/jpeg:https://devourfest.com/wp-content/uploads/2025/0
 8/The-Chef-The-Daruma-scaled.jpeg
CATEGORIES:FILM
LOCATION:Al Whittle Theatre\, 450 Main St\, Wolfville\, NS\, B4P 1E2\, Cana
 da
GEO:45.0915;-64.362765
X-APPLE-STRUCTURED-LOCATION;VALUE=URI;X-ADDRESS=450 Main St\, Wolfville\, N
 S\, B4P 1E2\, Canada;X-APPLE-RADIUS=100;X-TITLE=Al Whittle Theatre:geo:45.
 0915,-64.362765
END:VEVENT
BEGIN:VTIMEZONE
TZID:America/Halifax
X-LIC-LOCATION:America/Halifax
BEGIN:DAYLIGHT
DTSTART:20250309T030000
TZOFFSETFROM:-0400
TZOFFSETTO:-0300
TZNAME:ADT
END:DAYLIGHT
END:VTIMEZONE
END:VCALENDAR