BEGIN:VCALENDAR
VERSION:2.0
PRODID:-//wp-events-plugin.com//7.2.3.1//EN
TZID:America/Halifax
X-WR-TIMEZONE:America/Halifax
BEGIN:VEVENT
UID:758@devourfest.com
DTSTART;TZID=America/Halifax:20211023T170000
DTEND;TZID=America/Halifax:20211023T200000
DTSTAMP:20211018T014508Z
URL:https://devourfest.com/program/the-devour-down-home-lobster-supper-tak
 e-away-in-person/
SUMMARY:The Devour! Down-Home Lobster Supper & Take-Away presented by Exit 
 Realty Town & Country and Clearwater Seafoods - IN PERSON
DESCRIPTION:Back by popular demand\, with thanks to Exit Realty Town &amp\;
  Country and Clearwater Seafoods\, our talented team will serve up lobster
  dinners once again! Eat in at the Devour! Studios\, outside in Waterfront
  Park\, or take it to go. Come and savour an unforgettable and truly Atlan
 tic Canadian experience with our favourite crustacean. Proceeds from this 
 supper will go to the Indigenous Scholarship Fund at Acadia University.\n\
 nMeal includes: One whole Fresh Nova Scotia lobster with drawn butter\, po
 tato salad\, coleslaw and blueberry grunt.\n\nSponsored by: Clearwater Sea
 foods &amp\; Exit Realty Town &amp\; Country\n\nIn keeping with Nova Scoti
 a provincial health regulations and a desire to keep all our guests safe a
 nd healthy\, Devour! will require proof of full Covid-19 vaccine immunizat
 ion along with a valid photo ID upon entry to all events with no exception
 s. For all Devour! Covid Protocols\, please visit our website.
ATTACH;FMTTYPE=image/jpeg:https://devourfest.com/wp-content/uploads/2020/0
 9/Devour-Down-Home-Lobster-Roll-Take-Away-resize.jpg
LOCATION:Devour! Studios\, 360 Main Street\, Wolfville\, NS\, B4P1C4\, Cana
 da
GEO:45.091942;-64.359045
X-APPLE-STRUCTURED-LOCATION;VALUE=URI;X-ADDRESS=360 Main Street\, Wolfville
 \, NS\, B4P1C4\, Canada;X-APPLE-RADIUS=100;X-TITLE=Devour! Studios:geo:45.
 091942,-64.359045
END:VEVENT
BEGIN:VTIMEZONE
TZID:America/Halifax
X-LIC-LOCATION:America/Halifax
BEGIN:DAYLIGHT
DTSTART:20210314T030000
TZOFFSETFROM:-0400
TZOFFSETTO:-0300
TZNAME:ADT
END:DAYLIGHT
END:VTIMEZONE
END:VCALENDAR