BEGIN:VCALENDAR
VERSION:2.0
PRODID:-//wp-events-plugin.com//7.2.3.1//EN
TZID:America/Halifax
X-WR-TIMEZONE:America/Halifax
BEGIN:VEVENT
UID:850@devourfest.com
DTSTART;TZID=America/Halifax:20221029T180000
DTEND;TZID=America/Halifax:20221029T200000
DTSTAMP:20221018T170725Z
URL:https://devourfest.com/program/the-devour-down-home-lobster-supper/
SUMMARY:The Devour! Down-Home Lobster Supper
DESCRIPTION:Back by popular demand: The talented team led by Chef Peter Dew
 ar and students from the Nova Scotia Community College’s culinary progra
 m will serve up local lobster dinners buffet-style in a relaxed atmosphere
  once again! Come and savour an unforgettable and truly Atlantic Canadian 
 experience with our favourite crustacean.\nTicket Price: $40.00\; includes
  lobster\, coleslaw\, potato salad\, dessert\, and a non-alcoholic drink)\
 n\nSponsored by Audi Halifax\, Clearwater Seafoods &amp\; the Nova Scotia 
 Community College\n\nPeter Dewar\n\nChef Peter Dewar is a Faculty member o
 f the Culinary Management program at the Nova Scotia Community College\, K
 ingstec Campus. Students in this program learn the fundamentals of cooking
  and presentation. This dish reflects their training over the past 2 years
 .  We strive to ensure our students are offered valuable real-life experi
 ences\, whether at events such as Devour or fundraising initiatives that s
 upport Nova Scotia communities. @chefpeterdewar
ATTACH;FMTTYPE=image/jpeg:https://devourfest.com/wp-content/uploads/2022/0
 9/Devour-Down-Home-Lobster-Supper-scaled.jpg
CATEGORIES:EVENT
LOCATION:Devour! Studios\, 360 Main Street\, Wolfville\, NS\, B4P1C4\, Cana
 da
GEO:45.091942;-64.359045
X-APPLE-STRUCTURED-LOCATION;VALUE=URI;X-ADDRESS=360 Main Street\, Wolfville
 \, NS\, B4P1C4\, Canada;X-APPLE-RADIUS=100;X-TITLE=Devour! Studios:geo:45.
 091942,-64.359045
END:VEVENT
BEGIN:VTIMEZONE
TZID:America/Halifax
X-LIC-LOCATION:America/Halifax
BEGIN:DAYLIGHT
DTSTART:20220313T030000
TZOFFSETFROM:-0400
TZOFFSETTO:-0300
TZNAME:ADT
END:DAYLIGHT
END:VTIMEZONE
END:VCALENDAR