BEGIN:VCALENDAR
VERSION:2.0
PRODID:-//wp-events-plugin.com//7.2.3.1//EN
TZID:America/Halifax
X-WR-TIMEZONE:America/Halifax
BEGIN:VEVENT
UID:819@devourfest.com
DTSTART;TZID=America/Halifax:20221027T130000
DTEND;TZID=America/Halifax:20221027T142000
DTSTAMP:20221014T123513Z
URL:https://devourfest.com/program/the-end-of-medicine-w-hide/
SUMMARY:The End of Medicine w/Hide
DESCRIPTION:The End of Medicine exposes the link between our treatment of a
 nimals and emerging health threats such as pandemics and antimicrobial res
 istance. The film sheds light on the largely overlooked impending medical 
 threat warned by CDC and WHO experts\, and investigates the role animals p
 lay in disease outbreaks and the end of medicine as we know it.\n\nUSA\, 2
 022\, 70 minutes\nDirector: Alex Lockwood\nDistributor: Lockwood Film\n\n\
 n\nHide\n\nThree interconnected stories behind a single fur coat\, from th
 e trapper who catches the fox\, to the seamstress who sews the coat\, to t
 he shopper who buys it.\n\nUSA\, 2020\, 4 minutes\nDirector: Dustin Brown\
 n\nSponsored by Mara Renewables Corp &amp\; L'Acadie Vineyards
ATTACH;FMTTYPE=image/jpeg:https://devourfest.com/wp-content/uploads/2022/0
 9/The-End-of-Medicine-scaled.jpeg
CATEGORIES:FILM
LOCATION:Al Whittle Theatre\, 450 Main St\, Wolfville\, NS\, B4P 1E2\, Cana
 da
GEO:45.0915;-64.362765
X-APPLE-STRUCTURED-LOCATION;VALUE=URI;X-ADDRESS=450 Main St\, Wolfville\, N
 S\, B4P 1E2\, Canada;X-APPLE-RADIUS=100;X-TITLE=Al Whittle Theatre:geo:45.
 0915,-64.362765
END:VEVENT
BEGIN:VTIMEZONE
TZID:America/Halifax
X-LIC-LOCATION:America/Halifax
BEGIN:DAYLIGHT
DTSTART:20220313T030000
TZOFFSETFROM:-0400
TZOFFSETTO:-0300
TZNAME:ADT
END:DAYLIGHT
END:VTIMEZONE
END:VCALENDAR