BEGIN:VCALENDAR
VERSION:2.0
PRODID:-//wp-events-plugin.com//7.2.3.1//EN
TZID:America/Halifax
X-WR-TIMEZONE:America/Halifax
BEGIN:VEVENT
UID:843@devourfest.com
DTSTART;TZID=America/Halifax:20221026T210000
DTEND;TZID=America/Halifax:20221027T010000
DTSTAMP:20221014T202022Z
URL:https://devourfest.com/program/the-exclusive-devour-opening-gala-after
 -party-in-the-audi-halifax-lounge/
SUMMARY:The Exclusive Devour! Opening Gala After-Party in the Audi Halifax 
 Lounge
DESCRIPTION:Special guests\, delegates\, and sponsors of the 12th edition o
 f Devour! The Food Film Fest will schmooze in the Audi Halifax Lounge in t
 he Devour! Studios. Celebrate and raise a glass of one of our Devour! sign
 ature cocktails and chow down on authentic Nova Scotian fare\, ranging fro
 m fresh Sober Island oysters and snacks from Chef Ray Bear (Longfellow) to
  vegan donairs from Chef Lauren Marshall (Real Fake Meats).\n\nMusic by DJ
  Meg B.\nAdmittance with Festival ticket or badge\; cash bar.\nMust be 19+
  to attend in-person\n\nSponsored by Audi Halifax\, Mer et Soleil\, Beam S
 untory\, The Church Brewing Co.\, Real Fake Meats and Sober Island Oysters
 \n\nDJ Meg B\n\n\nMeg B is an up-and-coming DJ/selector from the South Sho
 re of Nova Scotia. She is an operating room nurse by day\, and tune bringe
 r by night\, and loves to bring the right musical energy to support and gu
 ide the atmosphere at private events and clubs alike.
ATTACH;FMTTYPE=image/jpeg:https://devourfest.com/wp-content/uploads/2022/0
 9/The-Exclusive-Devour-Opening-Gala-After-Party.jpg
CATEGORIES:EVENT
LOCATION:Devour! Studios\, 360 Main Street\, Wolfville\, NS\, B4P1C4\, Cana
 da
GEO:45.091942;-64.359045
X-APPLE-STRUCTURED-LOCATION;VALUE=URI;X-ADDRESS=360 Main Street\, Wolfville
 \, NS\, B4P1C4\, Canada;X-APPLE-RADIUS=100;X-TITLE=Devour! Studios:geo:45.
 091942,-64.359045
END:VEVENT
BEGIN:VTIMEZONE
TZID:America/Halifax
X-LIC-LOCATION:America/Halifax
BEGIN:DAYLIGHT
DTSTART:20220313T030000
TZOFFSETFROM:-0400
TZOFFSETTO:-0300
TZNAME:ADT
END:DAYLIGHT
END:VTIMEZONE
END:VCALENDAR