BEGIN:VCALENDAR
VERSION:2.0
PRODID:-//wp-events-plugin.com//7.2.3.1//EN
TZID:America/Halifax
X-WR-TIMEZONE:America/Halifax
BEGIN:VEVENT
UID:114@devourfest.com
DTSTART;TZID=America/Halifax:20141115T160000
DTEND;TZID=America/Halifax:20141115T171500
DTSTAMP:20140922T114210Z
URL:https://devourfest.com/program/the-family-farm-wdaylily-fritters/
SUMMARY:The Family Farm w/Daylily Fritters
DESCRIPTION:The Family Farm\n\nIn homage to 2014's International Year of Fa
 mily Farm project\, The Family Farm shares the stories of families working
  on farms across Canada\, including several from right here in Atlantic Ca
 nada. Each story clearly demonstrates the crucial role family farms play a
 nd the importance of where our food comes from.\n\nCanada\, 2014\, 72 minu
 tes\nDirector Ari A. Cohen\nDistributor Rotating Planet\n\nDaylily Fritter
 s\n\n\n\nThe oh-so-lovely and talented Aube Giroux is back with yet anothe
 r unique recipe foraged from her own backyard. How does she do it every ti
 me?\n\nCanada\, 2014\, 3 minutes\nDirector Aube Giroux\nDistributor Kitche
 n Vignettes
ATTACH;FMTTYPE=image/jpeg:https://devourfest.com/wp-content/uploads/2014/0
 9/The-Family-Farm-1-use-for-guide.jpg
LOCATION:Al Whittle Theatre\, 450 Main St\, Wolfville\, NS\, B4P 1E2\, Cana
 da
GEO:45.0915;-64.362765
X-APPLE-STRUCTURED-LOCATION;VALUE=URI;X-ADDRESS=450 Main St\, Wolfville\, N
 S\, B4P 1E2\, Canada;X-APPLE-RADIUS=100;X-TITLE=Al Whittle Theatre:geo:45.
 0915,-64.362765
END:VEVENT
BEGIN:VTIMEZONE
TZID:America/Halifax
X-LIC-LOCATION:America/Halifax
BEGIN:STANDARD
DTSTART:20141102T010000
TZOFFSETFROM:-0300
TZOFFSETTO:-0400
TZNAME:AST
END:STANDARD
END:VTIMEZONE
END:VCALENDAR