BEGIN:VCALENDAR
VERSION:2.0
PRODID:-//wp-events-plugin.com//7.2.3.1//EN
TZID:America/Halifax
X-WR-TIMEZONE:America/Halifax
BEGIN:VEVENT
UID:839@devourfest.com
DTSTART;TZID=America/Halifax:20221029T093000
DTEND;TZID=America/Halifax:20221029T123000
DTSTAMP:20221025T220502Z
URL:https://devourfest.com/program/the-mayors-bike-ride-for-devour-3/
SUMMARY:The Mayors' Bike Ride for Devour!
DESCRIPTION:Our leading health\, wellness\, and sporting event each year! J
 oin regional mayors from across Nova Scotia\, members of Bicycle Nova Scot
 ia\, and local cycling enthusiasts as they take part in this three-hour bi
 ke ride around the Annapolis Valley—enjoying fall foliage\, the beauty o
 f our landscape\, and healthy activity. New this year\, the ride will culm
 inate at the Devour! Chowder Smackdown under the tents in Waterfront Park.
 \n\nTicket Prices: $20.00 per rider\; includes refreshment breaks and a co
 mplimentary bowl of chowder at the Chowder Smackdown\n\nMuster Point: Wolf
 ville's Waterfront Park (directly behind the Studios)\n\nA limited number 
 of bike loans are available\; please contact the Wolfville Library or Bank
 s Bikes\n\nSponsored by Support 4 Culture\, Bank of Montreal\, Wilsons\, B
 icycle NS\, We’re Outside\, Banks Bikes\, EOS Natural Foods\, and JustUs
 \n\nThis year's route:\n\n
ATTACH;FMTTYPE=image/jpeg:https://devourfest.com/wp-content/uploads/2020/0
 9/Mayors-Bike-Ride-for-Devour-2-scaled.jpg
CATEGORIES:EVENT
LOCATION:Devour! Studios\, 360 Main Street\, Wolfville\, NS\, B4P1C4\, Cana
 da
GEO:45.091942;-64.359045
X-APPLE-STRUCTURED-LOCATION;VALUE=URI;X-ADDRESS=360 Main Street\, Wolfville
 \, NS\, B4P1C4\, Canada;X-APPLE-RADIUS=100;X-TITLE=Devour! Studios:geo:45.
 091942,-64.359045
END:VEVENT
BEGIN:VTIMEZONE
TZID:America/Halifax
X-LIC-LOCATION:America/Halifax
BEGIN:DAYLIGHT
DTSTART:20220313T030000
TZOFFSETFROM:-0400
TZOFFSETTO:-0300
TZNAME:ADT
END:DAYLIGHT
END:VTIMEZONE
END:VCALENDAR