BEGIN:VCALENDAR
VERSION:2.0
PRODID:-//wp-events-plugin.com//7.2.3.1//EN
TZID:America/Halifax
X-WR-TIMEZONE:America/Halifax
BEGIN:VEVENT
UID:493@devourfest.com
DTSTART;TZID=America/Halifax:20181027T093000
DTEND;TZID=America/Halifax:20181027T123000
DTSTAMP:20181016T234612Z
URL:https://devourfest.com/program/the-mayors-bike-ride-for-devour/
SUMMARY:The Mayors' Bike Ride for Devour!
DESCRIPTION:Three regional mayors – Jeff Cantwell (Wolfville)\, Sandra Sn
 ow (Kentville) and Peter Muttart (Kings County) – will lead a three-hour
  relaxed morning bike ride from Wolfville to Kentville and out to the Star
 r’s Point Loop and back with scheduled Valley ‘refreshment stops.’ T
 he ride will also feature a number of our celebrity guests\, chefs and a f
 ew Olympians for good measure.\n\n$20 per rider\, includes refreshment bre
 aks.\n\nSponsored by Support 4 Culture\, Bicycle Nova Scotia &amp\; We’r
 e Outside\n\nRide Schedule:\n\n9-9:30am  Gather in Robie Tufts Park on Fro
 nt Street in Wolfville for registration.\n9:30 am  Opening Speeches &amp\;
  Photo Opps with Photo Ops with Mayors &amp\; Event Partners. Bike Harvest
  Moon \nTrail Wolfville to Kentville - 11.2 km (30 minutes)\n10:10am  Refr
 eshment Break in parking lot behind Cornwallis Inn.\n10:30am  Bike through
  Kentville up Belcher to Middle Dyke Road and Church Street to Taproot Far
 ms 12 km \n(40 minutes)\n11:20am  Refreshment Break at Taproot Farms\n11:4
 0am  Bike back to Wolfville 12 kms (40 minutes)- finish at Robie Tufts Par
 k\n12:30pm  Ride concludes\n\nYou can sign up at We're Outside on Main Str
 eet Wolfville. You MUST pre-register. A limited number of Bike loans avail
 able contact Brian at We’re Outside 902.542.3065.\n\n
ATTACH;FMTTYPE=image/jpeg:https://devourfest.com/wp-content/uploads/2018/0
 9/Mayors-Bike-Ride-for-Devour-cropped.jpg
LOCATION:Robie Tufts Park\, 122 Front Street\, Wolfville\, Nova Scotia\, B4
 P 1A6\, Canada
GEO:45.0922045;-64.36200459999998
X-APPLE-STRUCTURED-LOCATION;VALUE=URI;X-ADDRESS=122 Front Street\, Wolfvill
 e\, Nova Scotia\, B4P 1A6\, Canada;X-APPLE-RADIUS=100;X-TITLE=Robie Tufts 
 Park:geo:45.0922045,-64.36200459999998
END:VEVENT
BEGIN:VTIMEZONE
TZID:America/Halifax
X-LIC-LOCATION:America/Halifax
BEGIN:DAYLIGHT
DTSTART:20180311T030000
TZOFFSETFROM:-0400
TZOFFSETTO:-0300
TZNAME:ADT
END:DAYLIGHT
END:VTIMEZONE
END:VCALENDAR