BEGIN:VCALENDAR
VERSION:2.0
PRODID:-//wp-events-plugin.com//7.2.3.1//EN
TZID:America/Halifax
X-WR-TIMEZONE:America/Halifax
BEGIN:VEVENT
UID:913@devourfest.com
DTSTART;TZID=America/Halifax:20231028T170000
DTEND;TZID=America/Halifax:20231028T184500
DTSTAMP:20230907T120440Z
URL:https://devourfest.com/program/the-most-remote-restaurant-in-the-world
 -w-skyline/
SUMMARY:The Most Remote Restaurant in the World w/Skyline
DESCRIPTION:The Most Remote Restaurant in the World\nIn one of the most rem
 ote corners of the world—in a settlement where only 53 people live and w
 hich you can only reach by boat—a gastronomic restaurant of the highest 
 class is being established. Chef Poul Andrias Ziska and the team behind th
 e Michelin two-starred Faroese restaurant KOKS embark on an extraordinary 
 adventure when they move the entire restaurant to a remote settlement in G
 reenland. \nDenmark\, 2023\, 86 minutes\nDirector: Ole Juncker\nDistribut
 or: viaplay group\n\n\nSkyline\nThis is the story of one old diner\, two n
 ew owners\, and one childish customer learning how not to be a dick.\nCana
 da\, 2022\, 6 minutes\nDirector: JR Reid\n
ATTACH;FMTTYPE=image/jpeg:https://devourfest.com/wp-content/uploads/2023/0
 8/The-Most-Remote-Restaurant-in-the-World-scaled.jpg
CATEGORIES:FILM
LOCATION:Al Whittle Theatre\, 450 Main St\, Wolfville\, NS\, B4P 1E2\, Cana
 da
GEO:45.0915;-64.362765
X-APPLE-STRUCTURED-LOCATION;VALUE=URI;X-ADDRESS=450 Main St\, Wolfville\, N
 S\, B4P 1E2\, Canada;X-APPLE-RADIUS=100;X-TITLE=Al Whittle Theatre:geo:45.
 0915,-64.362765
END:VEVENT
BEGIN:VTIMEZONE
TZID:America/Halifax
X-LIC-LOCATION:America/Halifax
BEGIN:DAYLIGHT
DTSTART:20230312T030000
TZOFFSETFROM:-0400
TZOFFSETTO:-0300
TZNAME:ADT
END:DAYLIGHT
END:VTIMEZONE
END:VCALENDAR