BEGIN:VCALENDAR
VERSION:2.0
PRODID:-//wp-events-plugin.com//7.2.3.1//EN
TZID:America/Halifax
X-WR-TIMEZONE:America/Halifax
BEGIN:VEVENT
UID:915@devourfest.com
DTSTART;TZID=America/Halifax:20231028T200000
DTEND;TZID=America/Halifax:20231028T220000
DTSTAMP:20230907T120440Z
URL:https://devourfest.com/program/the-peacock-w-remove-hind-legs-before-c
 onsumption/
SUMMARY:The Peacock w/Remove Hind Legs Before Consumption
DESCRIPTION:The Peacock\nWhen investment banker Linda Bachmann and her team
  arrive at the country estate of Lord and Lady McIntosh for a team-buildin
 g seminar\, the prospects of having a relaxing weekend in Scotland are not
  good. When the Lord‘s favourite peacock and the Lady‘s favourite goos
 e disappear\, chaos ensues in this Clue-inspired caper. \nGermany/Belgium
 \, 2023\, 106 minutes\nDirector: Lutz Heineking Jr.\nDistributor: Picture 
 Tree International\n\nRemove Hind Legs Before Consumption\nOn an insect fo
 od farm\, millions of crickets are being bred\, frozen\, packaged\, and fr
 ied. The ordinary\, everyday process on the farm is a one-time catastrophe
  for the crickets and usually ends with their inevitable death. Neverthele
 ss\, one cricket survives and escapes.\nSwitzerland\, 2022\, 3 minutes\nDi
 rectors: Finn Meisner\, Lukas Wind\, Leslie Herzig\n
ATTACH;FMTTYPE=image/jpeg:https://devourfest.com/wp-content/uploads/2023/0
 8/The-Peacock-scaled.jpg
CATEGORIES:FILM
LOCATION:Al Whittle Theatre\, 450 Main St\, Wolfville\, NS\, B4P 1E2\, Cana
 da
GEO:45.0915;-64.362765
X-APPLE-STRUCTURED-LOCATION;VALUE=URI;X-ADDRESS=450 Main St\, Wolfville\, N
 S\, B4P 1E2\, Canada;X-APPLE-RADIUS=100;X-TITLE=Al Whittle Theatre:geo:45.
 0915,-64.362765
END:VEVENT
BEGIN:VTIMEZONE
TZID:America/Halifax
X-LIC-LOCATION:America/Halifax
BEGIN:DAYLIGHT
DTSTART:20230312T030000
TZOFFSETFROM:-0400
TZOFFSETTO:-0300
TZNAME:ADT
END:DAYLIGHT
END:VTIMEZONE
END:VCALENDAR