BEGIN:VCALENDAR
VERSION:2.0
PRODID:-//wp-events-plugin.com//7.2.3.1//EN
TZID:America/Halifax
X-WR-TIMEZONE:America/Halifax
BEGIN:VEVENT
UID:954@devourfest.com
DTSTART;TZID=America/Halifax:20241025T110000
DTEND;TZID=America/Halifax:20241025T123500
DTSTAMP:20240905T014651Z
URL:https://devourfest.com/program/the-perfect-meal-w-the-sardine-roaster/
SUMMARY:The Perfect Meal w/The Sardine Roaster
DESCRIPTION:The Perfect Meal is a culinary homage to the Mediterranean diet
  and olive oil\, highlighting its numerous health benefits. Originating in
  Greece and Crete\, this diet includes vegetables\, fruits\, and olive oil
 . The film showcases the diet’s impact on health and contrasts it with t
 he rise of lifestyle diseases from processed foods.\nGreece\, 2023\, 72 mi
 nutes\nDirector: Alexandros Merkouris\nDistributor: ANEMON Productions\n\n
 The Sardine Roaster\nManuel Galindo\, a man connected to the elements\, is
  the last sardine roaster. His unexpected path reveals stories of memory a
 nd human connections.\nSpain\, 2023\, 15 minutes\nDirector: Adrián Ordó
 ñez
ATTACH;FMTTYPE=image/jpeg:https://devourfest.com/wp-content/uploads/2024/0
 9/The-Perfect-Meal-e1725300579167.jpeg
CATEGORIES:FILM
LOCATION:Al Whittle Theatre\, 450 Main St\, Wolfville\, NS\, B4P 1E2\, Cana
 da
GEO:45.0915;-64.362765
X-APPLE-STRUCTURED-LOCATION;VALUE=URI;X-ADDRESS=450 Main St\, Wolfville\, N
 S\, B4P 1E2\, Canada;X-APPLE-RADIUS=100;X-TITLE=Al Whittle Theatre:geo:45.
 0915,-64.362765
END:VEVENT
BEGIN:VTIMEZONE
TZID:America/Halifax
X-LIC-LOCATION:America/Halifax
BEGIN:DAYLIGHT
DTSTART:20240310T030000
TZOFFSETFROM:-0400
TZOFFSETTO:-0300
TZNAME:ADT
END:DAYLIGHT
END:VTIMEZONE
END:VCALENDAR