BEGIN:VCALENDAR
VERSION:2.0
PRODID:-//wp-events-plugin.com//7.2.3.1//EN
TZID:America/Halifax
X-WR-TIMEZONE:America/Halifax
BEGIN:VEVENT
UID:149@devourfest.com
DTSTART;TZID=America/Halifax:20151106T200000
DTEND;TZID=America/Halifax:20151106T213000
DTSTAMP:20151020T150207Z
URL:https://devourfest.com/program/the-sandwich-nazi-wim-fking-hungry-butt
 er-yaself/
SUMMARY:The Sandwich Nazi w/I'm F**king Hungry & Butter Ya'Self
DESCRIPTION:The Sandwich Nazi\nSalam Kahil is crass\, rude and inappropriat
 e. He is an exhibitionist and former sex worker who likes to talk about hi
 s penis. Oh\, and he makes great sandwiches. The Sandwich Nazi follows thi
 s anti-hero from Vancouver to Lebanon and back\, as he doles out food\, in
 sults and love to his patrons.\nCanada\, 2015\, 72 minutes\nDirector Lewis
  Bennett\nDistributor Lewis Bennett\n\nI’m F**king Hungry\nScreening gua
 rantee: you have never seen snacks throw down a rap like this before – e
 specially bacon. Bacon is bada**.\nUSA\, 2015\, 4 minutes\nDirector Max La
 nman\n\nButter Ya’Self\nButter Ya’Self before you wreck ya’self with
  Nana Splits.\nUSA\, 2014\, 4 minutes\nDirector Julian Petschek
ATTACH;FMTTYPE=image/jpeg:https://devourfest.com/wp-content/uploads/2015/0
 9/rsz_the_sandwich_nazi.jpg
LOCATION:Al Whittle Theatre - Studio Z\, 450 Main St\, Wolfville\, NS\, B4P
  1E2\, Canada
GEO:45.091618;-64.362640
X-APPLE-STRUCTURED-LOCATION;VALUE=URI;X-ADDRESS=450 Main St\, Wolfville\, N
 S\, B4P 1E2\, Canada;X-APPLE-RADIUS=100;X-TITLE=Al Whittle Theatre - Studi
 o Z:geo:45.091618,-64.362640
END:VEVENT
BEGIN:VTIMEZONE
TZID:America/Halifax
X-LIC-LOCATION:America/Halifax
BEGIN:STANDARD
DTSTART:20151101T010000
TZOFFSETFROM:-0300
TZOFFSETTO:-0400
TZNAME:AST
END:STANDARD
END:VTIMEZONE
END:VCALENDAR