BEGIN:VCALENDAR
VERSION:2.0
PRODID:-//wp-events-plugin.com//7.2.3.1//EN
TZID:America/Halifax
X-WR-TIMEZONE:America/Halifax
BEGIN:VEVENT
UID:828@devourfest.com
DTSTART;TZID=America/Halifax:20221028T110000
DTEND;TZID=America/Halifax:20221028T123000
DTSTAMP:20220923T194944Z
URL:https://devourfest.com/program/the-seeds-of-vandana-shiva-w-hearth-of-
 the-lion/
SUMMARY:The Seeds of Vandana Shiva w/Hearth of the Lion
DESCRIPTION:How did the willful daughter of a Himalayan forest conservator 
 become Monsanto’s worst nightmare? The Seeds of Vandana Shiva tells the 
 remarkable life story of Gandhian eco-activist Dr. Vandana Shiva\, how she
  stood up to the corporate goliaths of industrial agriculture\, rose to pr
 ominence in the seed saving and organic food movements\, and is inspiring 
 an international crusade for change.\n\nAustralia\, 2021\, 82 minutes\nDir
 ectors: James Becket &amp\; Camilla Becket\nDistributor: ROCO films\n\nHea
 rth of the Lion\n\nHearth of the Lion illustrates the bond between three b
 rothers—with their dedication\, discipline\, and passion on display—as
  they embody the powerful movements of the lion and the fire of the wok he
 arth.\n\nCanada\, 2022\, 7 minutes\nDirector: Vicki Van Chau\n\nSponsored 
 by Mara Renewables Corp
ATTACH;FMTTYPE=image/jpeg:https://devourfest.com/wp-content/uploads/2022/0
 9/The-Seeds-of-Vandana-Shiva.jpg
CATEGORIES:FILM
LOCATION:Al Whittle Theatre\, 450 Main St\, Wolfville\, NS\, B4P 1E2\, Cana
 da
GEO:45.0915;-64.362765
X-APPLE-STRUCTURED-LOCATION;VALUE=URI;X-ADDRESS=450 Main St\, Wolfville\, N
 S\, B4P 1E2\, Canada;X-APPLE-RADIUS=100;X-TITLE=Al Whittle Theatre:geo:45.
 0915,-64.362765
END:VEVENT
BEGIN:VTIMEZONE
TZID:America/Halifax
X-LIC-LOCATION:America/Halifax
BEGIN:DAYLIGHT
DTSTART:20220313T030000
TZOFFSETFROM:-0400
TZOFFSETTO:-0300
TZNAME:ADT
END:DAYLIGHT
END:VTIMEZONE
END:VCALENDAR