BEGIN:VCALENDAR
VERSION:2.0
PRODID:-//wp-events-plugin.com//7.2.3.1//EN
TZID:America/Halifax
X-WR-TIMEZONE:America/Halifax
BEGIN:VEVENT
UID:813@devourfest.com
DTSTART;TZID=America/Halifax:20221026T140000
DTEND;TZID=America/Halifax:20221026T153500
DTSTAMP:20221014T123433Z
URL:https://devourfest.com/program/the-smell-of-money-w-invisible/
SUMMARY:The Smell of Money w/Invisible
DESCRIPTION:“The smell of money.” That’s what Big Pork calls the sten
 ch of pig waste in the air in eastern North Carolina\, where much of the w
 orld’s bacon and barbecue is made. But to Elsie Herring and others who l
 ive near the state’s giant pig factories\, the revolting odour is a call
  to battle against generations of injustice.\n\nUSA\, 2022\, 84 minutes\nD
 irector: Shawn Bannon\nDistributor: Beyond the Pines\n\n\n\nInvisible\n\nI
 nvisible follows two undercover investigators\, “Emily” and “Sarah
 ” (names changed to protect their identities)\, on a pig farm investigat
 ion in Europe\, offering the viewer an unprecedented glimpse into a world 
 that is deliberately and painstakingly covert.\n\nUSA\, 2022\, 6 minutes\n
 Director: Chris Shoebridge\n\nSponsored by Mara Renewables Corp
ATTACH;FMTTYPE=image/jpeg:https://devourfest.com/wp-content/uploads/2022/0
 9/The-Smell-of-Money-scaled.jpg
CATEGORIES:FILM
LOCATION:Al Whittle Theatre\, 450 Main St\, Wolfville\, NS\, B4P 1E2\, Cana
 da
GEO:45.0915;-64.362765
X-APPLE-STRUCTURED-LOCATION;VALUE=URI;X-ADDRESS=450 Main St\, Wolfville\, N
 S\, B4P 1E2\, Canada;X-APPLE-RADIUS=100;X-TITLE=Al Whittle Theatre:geo:45.
 0915,-64.362765
END:VEVENT
BEGIN:VTIMEZONE
TZID:America/Halifax
X-LIC-LOCATION:America/Halifax
BEGIN:DAYLIGHT
DTSTART:20220313T030000
TZOFFSETFROM:-0400
TZOFFSETTO:-0300
TZNAME:ADT
END:DAYLIGHT
END:VTIMEZONE
END:VCALENDAR