BEGIN:VCALENDAR
VERSION:2.0
PRODID:-//wp-events-plugin.com//7.2.3.1//EN
TZID:America/Halifax
X-WR-TIMEZONE:America/Halifax
BEGIN:VEVENT
UID:747@devourfest.com
DTSTART;TZID=America/Halifax:20211023T110000
DTEND;TZID=America/Halifax:20211023T123000
DTSTAMP:20211018T014239Z
URL:https://devourfest.com/program/the-taste-of-desire-w-an-underwater-que
 st-in-person/
SUMMARY:The Taste of Desire w/An Underwater Quest - IN PERSON
DESCRIPTION:The Taste of Desire\nThe oyster has long been a symbol of desir
 e. Through some rather captivating characters\, this film delves into the 
 complexity of human desire\, our relationship to the world around us\, and
  ultimately what lengths we will go to find satisfaction.\nThe Netherlands
 \, 2021\, 87 minutes\nDirector Willemiek Kluijfhout\nDistributor Rise and 
 Shine World Sales\n\nAn Underwater Quest\nBenjamin Bridge Winery and their
  oyster-farming friends at La Maison BeauSoleil have embarked on a truly r
 are experiment: ageing sparkling wine under the sea.\nCanada\, 2021\, 14 m
 inutes\nDirector Brad Sayeau\n\nThis film will feature an in-theatre tasti
 ng by Chef Stéphane Levac. Dish: coming soon. \n\nSponsored by the Dairy
  Farmers of Canada\n\nStéphane Levac\n\nNova Scotia forager and Indigenou
 s chef Stéphane Levac made a name for himself having operated his own cat
 ering business\, Frais Catering\, in the Annapolis Valley with his partner
  Sarah Morrison. Since then\, he has worked in the kitchen at Studio East 
 in Halifax under Chef Ray Bear\, and has also been the kitchen supervisor 
 at Just Us! Coffee Roasters. Most recently\, he has appeared on Season 9 o
 f Top Chef Canada and was also the Chef at the very popular drink and eate
 ry\, Maritime Express Cider Company. Today\, he is the Chef at Oak Island 
 Resort. @fraiscaterer\n\nIn keeping with Nova Scotia provincial health reg
 ulations and a desire to keep all our guests safe and healthy\, Devour! wi
 ll require proof of full Covid-19 vaccine immunization along with a valid 
 photo ID upon entry to all events with no exceptions. For all Devour! Covi
 d Protocols\, please visit our website.
ATTACH;FMTTYPE=image/jpeg:https://devourfest.com/wp-content/uploads/2021/0
 9/The-Taste-of-Desire.jpeg
LOCATION:Al Whittle Theatre\, 450 Main St\, Wolfville\, NS\, B4P 1E2\, Cana
 da
GEO:45.0915;-64.362765
X-APPLE-STRUCTURED-LOCATION;VALUE=URI;X-ADDRESS=450 Main St\, Wolfville\, N
 S\, B4P 1E2\, Canada;X-APPLE-RADIUS=100;X-TITLE=Al Whittle Theatre:geo:45.
 0915,-64.362765
END:VEVENT
BEGIN:VTIMEZONE
TZID:America/Halifax
X-LIC-LOCATION:America/Halifax
BEGIN:DAYLIGHT
DTSTART:20210314T030000
TZOFFSETFROM:-0400
TZOFFSETTO:-0300
TZNAME:ADT
END:DAYLIGHT
END:VTIMEZONE
END:VCALENDAR