BEGIN:VCALENDAR
VERSION:2.0
PRODID:-//wp-events-plugin.com//7.2.3.1//EN
TZID:America/Halifax
X-WR-TIMEZONE:America/Halifax
BEGIN:VEVENT
UID:748@devourfest.com
DTSTART;TZID=America/Halifax:20211023T110000
DTEND;TZID=America/Halifax:20211023T130000
DTSTAMP:20211010T223051Z
URL:https://devourfest.com/program/the-taste-of-desire-w-an-underwater-que
 st-online/
SUMMARY:The Taste of Desire w/An Underwater Quest - ONLINE
DESCRIPTION:The Taste of Desire\nThe oyster has long been a symbol of desir
 e. Through some rather captivating characters\, this film delves into the 
 complexity of human desire\, our relationship to the world around us\, and
  ultimately what lengths we will go to find satisfaction.\nThe Netherlands
 \, 2021\, 87 minutes\nDirector Willemiek Kluijfhout\nDistributor Rise and 
 Shine World Sales\n\nAn Underwater Quest\nBenjamin Bridge Winery and their
  oyster-farming friends at La Maison BeauSoleil have embarked on a truly r
 are experiment: ageing sparkling wine under the sea.\nCanada\, 2021\, 14 m
 inutes\nDirector Brad Sayeau\n\nSponsored by the Dairy Farmers of Canada
ATTACH;FMTTYPE=image/jpeg:https://devourfest.com/wp-content/uploads/2021/0
 9/The-Taste-of-Desire.jpeg
LOCATION:Online\, Online\,  \, Online\, Online\, Online\, Canada
GEO:43.808785;-79.334046
X-APPLE-STRUCTURED-LOCATION;VALUE=URI;X-ADDRESS=Online\,  \, Online\, Onlin
 e\, Online\, Canada;X-APPLE-RADIUS=100;X-TITLE=Online:geo:43.808785,-79.33
 4046
END:VEVENT
BEGIN:VTIMEZONE
TZID:America/Halifax
X-LIC-LOCATION:America/Halifax
BEGIN:DAYLIGHT
DTSTART:20210314T030000
TZOFFSETFROM:-0400
TZOFFSETTO:-0300
TZNAME:ADT
END:DAYLIGHT
END:VTIMEZONE
END:VCALENDAR