BEGIN:VCALENDAR
VERSION:2.0
PRODID:-//wp-events-plugin.com//7.2.3.1//EN
TZID:America/Halifax
X-WR-TIMEZONE:America/Halifax
BEGIN:VEVENT
UID:79@devourfest.com
DTSTART;TZID=America/Halifax:20141113T160000
DTEND;TZID=America/Halifax:20141113T173000
DTSTAMP:20140922T113307Z
URL:https://devourfest.com/program/the-world-of-burgundy-wines/
SUMMARY:The World of Burgundy Wines
DESCRIPTION:Following the screening of A Year in Burgundy\, some of the bes
 t sommeliers from our region will take you on a tasting tour of one of the
  largest and most distinctive wine-making regions in France. Pinot Noir is
  king here - and its nuanced expressions nurtured from the vines and grape
 s by some of the world's most experienced winemakers justify its place at 
 the very pinnacle of the wine world.
ATTACH;FMTTYPE=image/jpeg:https://devourfest.com/wp-content/uploads/2014/0
 9/The-World-of-Burgundy-Wines.jpg
LOCATION:Al Whittle Theatre - Studio Z\, 450 Main St\, Wolfville\, NS\, B4P
  1E2\, Canada
GEO:45.091618;-64.362640
X-APPLE-STRUCTURED-LOCATION;VALUE=URI;X-ADDRESS=450 Main St\, Wolfville\, N
 S\, B4P 1E2\, Canada;X-APPLE-RADIUS=100;X-TITLE=Al Whittle Theatre - Studi
 o Z:geo:45.091618,-64.362640
END:VEVENT
BEGIN:VTIMEZONE
TZID:America/Halifax
X-LIC-LOCATION:America/Halifax
BEGIN:STANDARD
DTSTART:20141102T010000
TZOFFSETFROM:-0300
TZOFFSETTO:-0400
TZNAME:AST
END:STANDARD
END:VTIMEZONE
END:VCALENDAR